BEGIN:VCALENDAR
VERSION:2.0
PRODID:-//Modern Table Top Gaming - ECPv6.15.20//NONSGML v1.0//EN
CALSCALE:GREGORIAN
METHOD:PUBLISH
X-WR-CALNAME:Modern Table Top Gaming
X-ORIGINAL-URL:https://moderntabletoprva.com
X-WR-CALDESC:Events for Modern Table Top Gaming
REFRESH-INTERVAL;VALUE=DURATION:PT1H
X-Robots-Tag:noindex
X-PUBLISHED-TTL:PT1H
BEGIN:VTIMEZONE
TZID:America/New_York
BEGIN:DAYLIGHT
TZOFFSETFROM:-0500
TZOFFSETTO:-0400
TZNAME:EDT
DTSTART:20250309T070000
END:DAYLIGHT
BEGIN:STANDARD
TZOFFSETFROM:-0400
TZOFFSETTO:-0500
TZNAME:EST
DTSTART:20251102T060000
END:STANDARD
BEGIN:DAYLIGHT
TZOFFSETFROM:-0500
TZOFFSETTO:-0400
TZNAME:EDT
DTSTART:20260308T070000
END:DAYLIGHT
BEGIN:STANDARD
TZOFFSETFROM:-0400
TZOFFSETTO:-0500
TZNAME:EST
DTSTART:20261101T060000
END:STANDARD
BEGIN:DAYLIGHT
TZOFFSETFROM:-0500
TZOFFSETTO:-0400
TZNAME:EDT
DTSTART:20270314T070000
END:DAYLIGHT
BEGIN:STANDARD
TZOFFSETFROM:-0400
TZOFFSETTO:-0500
TZNAME:EST
DTSTART:20271107T060000
END:STANDARD
END:VTIMEZONE
BEGIN:VEVENT
DTSTART;TZID=America/New_York:20260327T120000
DTEND;TZID=America/New_York:20260327T213000
DTSTAMP:20260424T113117
CREATED:20260126T235849Z
LAST-MODIFIED:20260318T235948Z
UID:10005524-1774612800-1774647000@moderntabletoprva.com
SUMMARY:FNM Commander
DESCRIPTION:Entry Fee: FreeOpen Play Prize Support: \nJoin our Event via the companion app to be eligible for a Promo Pack *Promos are available while supplies last
URL:https://moderntabletoprva.com/event/fnm-commander-70/
LOCATION:Modern Table Top gaming\, 15901 US Hwy 1\, Colonial Heights\, VA\, United States
GEO:37.305458;-77.40894
X-APPLE-STRUCTURED-LOCATION;VALUE=URI;X-ADDRESS=Modern Table Top gaming 15901 US Hwy 1 Colonial Heights VA United States;X-APPLE-RADIUS=500;X-TITLE=15901 US Hwy 1:geo:-77.40894,37.305458
END:VEVENT
BEGIN:VEVENT
DTSTART;TZID=America/New_York:20260327T183000
DTEND;TZID=America/New_York:20260327T213000
DTSTAMP:20260424T113117
CREATED:20260126T235848Z
LAST-MODIFIED:20260318T235948Z
UID:10005523-1774636200-1774647000@moderntabletoprva.com
SUMMARY:D&D
DESCRIPTION:Entry Fee: $5Parties are usually already establishedContact Party and Dungeon Master via our Discord to determine availability
URL:https://moderntabletoprva.com/event/dd-403/
LOCATION:Modern Table Top gaming\, 15901 US Hwy 1\, Colonial Heights\, VA\, United States
GEO:37.305458;-77.40894
X-APPLE-STRUCTURED-LOCATION;VALUE=URI;X-ADDRESS=Modern Table Top gaming 15901 US Hwy 1 Colonial Heights VA United States;X-APPLE-RADIUS=500;X-TITLE=15901 US Hwy 1:geo:-77.40894,37.305458
END:VEVENT
BEGIN:VEVENT
DTSTART;TZID=America/New_York:20260327T183000
DTEND;TZID=America/New_York:20260327T223000
DTSTAMP:20260424T113117
CREATED:20260126T235848Z
LAST-MODIFIED:20260318T235948Z
UID:10005522-1774636200-1774650600@moderntabletoprva.com
SUMMARY:Grand Archive
DESCRIPTION:Constructed Event (3 Rounds)Entry: $5*Booster Pack on Entry \nEvent Pack Payout \n3-0 = 3g / 2s \n2-0-1 = 2g / 2s \n2-1 = 1g / 2s \n1-2 = 2s \n0-3 = 1s
URL:https://moderntabletoprva.com/event/grand-archive-82/
LOCATION:Modern Table Top gaming\, 15901 US Hwy 1\, Colonial Heights\, VA\, United States
GEO:37.305458;-77.40894
X-APPLE-STRUCTURED-LOCATION;VALUE=URI;X-ADDRESS=Modern Table Top gaming 15901 US Hwy 1 Colonial Heights VA United States;X-APPLE-RADIUS=500;X-TITLE=15901 US Hwy 1:geo:-77.40894,37.305458
END:VEVENT
BEGIN:VEVENT
DTSTART;TZID=America/New_York:20260327T190000
DTEND;TZID=America/New_York:20260327T220000
DTSTAMP:20260424T113117
CREATED:20260219T234205Z
LAST-MODIFIED:20260318T235948Z
UID:10005606-1774638000-1774648800@moderntabletoprva.com
SUMMARY:FNM Draft: 4 Player (Pick 2)
DESCRIPTION:Format: TMNT Pick 2 Draft (2 Rounds)Entry: $20Time: 7pmWhen: March 6\, 13\, 20\, 27 & Apr 3\, 10Capped at 12 (3 Pods)Prize Support: Packs from Drafted Set2-0 = 1 Foil Promo Pack + 4 Play Boosters1-1 = 2 Play Booster \nMarch 6th – RZP3G4EMarch 13th – NMJWN4NMarch 20th – PP6V8M5March 27th – 862XGEPApril 3rd – ZQ3Y7JNApril 10th – YEJZ5Q6
URL:https://moderntabletoprva.com/event/fnm-draft-4-player-pick-2-4/
LOCATION:Modern Table Top gaming\, 15901 US Hwy 1\, Colonial Heights\, VA\, United States
GEO:37.305458;-77.40894
X-APPLE-STRUCTURED-LOCATION;VALUE=URI;X-ADDRESS=Modern Table Top gaming 15901 US Hwy 1 Colonial Heights VA United States;X-APPLE-RADIUS=500;X-TITLE=15901 US Hwy 1:geo:-77.40894,37.305458
END:VEVENT
END:VCALENDAR