BEGIN:VCALENDAR
VERSION:2.0
PRODID:-//Modern Table Top Gaming - ECPv6.15.20//NONSGML v1.0//EN
CALSCALE:GREGORIAN
METHOD:PUBLISH
X-ORIGINAL-URL:https://moderntabletoprva.com
X-WR-CALDESC:Events for Modern Table Top Gaming
REFRESH-INTERVAL;VALUE=DURATION:PT1H
X-Robots-Tag:noindex
X-PUBLISHED-TTL:PT1H
BEGIN:VTIMEZONE
TZID:America/New_York
BEGIN:DAYLIGHT
TZOFFSETFROM:-0500
TZOFFSETTO:-0400
TZNAME:EDT
DTSTART:20250309T070000
END:DAYLIGHT
BEGIN:STANDARD
TZOFFSETFROM:-0400
TZOFFSETTO:-0500
TZNAME:EST
DTSTART:20251102T060000
END:STANDARD
BEGIN:DAYLIGHT
TZOFFSETFROM:-0500
TZOFFSETTO:-0400
TZNAME:EDT
DTSTART:20260308T070000
END:DAYLIGHT
BEGIN:STANDARD
TZOFFSETFROM:-0400
TZOFFSETTO:-0500
TZNAME:EST
DTSTART:20261101T060000
END:STANDARD
BEGIN:DAYLIGHT
TZOFFSETFROM:-0500
TZOFFSETTO:-0400
TZNAME:EDT
DTSTART:20270314T070000
END:DAYLIGHT
BEGIN:STANDARD
TZOFFSETFROM:-0400
TZOFFSETTO:-0500
TZNAME:EST
DTSTART:20271107T060000
END:STANDARD
END:VTIMEZONE
BEGIN:VEVENT
DTSTART;TZID=America/New_York:20260405T120000
DTEND;TZID=America/New_York:20260405T170000
DTSTAMP:20260424T093759
CREATED:20260204T234244Z
LAST-MODIFIED:20260318T235956Z
UID:10005559-1775390400-1775408400@moderntabletoprva.com
SUMMARY:MTG Commander
DESCRIPTION:EntryFee: FreeOpen Play    Prize Support:   Join our Event via the companion app to be eligible for a Promo Pack    *Promos are available while supplies last
URL:https://moderntabletoprva.com/event/mtg-commander-237/
LOCATION:Modern Table Top gaming\, 15901 US Hwy 1\, Colonial Heights\, VA\, United States
GEO:37.305458;-77.40894
X-APPLE-STRUCTURED-LOCATION;VALUE=URI;X-ADDRESS=Modern Table Top gaming 15901 US Hwy 1 Colonial Heights VA United States;X-APPLE-RADIUS=500;X-TITLE=15901 US Hwy 1:geo:-77.40894,37.305458
END:VEVENT
BEGIN:VEVENT
DTSTART;TZID=America/New_York:20260405T120000
DTEND;TZID=America/New_York:20260405T180000
DTSTAMP:20260424T093759
CREATED:20260219T234217Z
LAST-MODIFIED:20260318T235956Z
UID:10005608-1775390400-1775412000@moderntabletoprva.com
SUMMARY:Commander Party: TMNT
DESCRIPTION:Entry: Free Event Code: Check Flyer Time: All Day Foil Courier of Comestibles on Entry Kick it with the Turtles at our Commander Party event! This is your chance to get into the coolest party on this side of the sewers. Bring your favorite Commander deck or pick up a copy of the Turtle Power! deck and get ready to jam some games with friends both new and old.
URL:https://moderntabletoprva.com/event/commander-party-tmnt-2/
LOCATION:Modern Table Top gaming\, 15901 US Hwy 1\, Colonial Heights\, VA\, United States
GEO:37.305458;-77.40894
X-APPLE-STRUCTURED-LOCATION;VALUE=URI;X-ADDRESS=Modern Table Top gaming 15901 US Hwy 1 Colonial Heights VA United States;X-APPLE-RADIUS=500;X-TITLE=15901 US Hwy 1:geo:-77.40894,37.305458
END:VEVENT
BEGIN:VEVENT
DTSTART;TZID=America/New_York:20260405T130000
DTEND;TZID=America/New_York:20260405T180000
DTSTAMP:20260424T093759
CREATED:20260315T233241Z
LAST-MODIFIED:20260318T235957Z
UID:10005678-1775394000-1775412000@moderntabletoprva.com
SUMMARY:Grand Archive: Pantheon
DESCRIPTION:Entry: Free
URL:https://moderntabletoprva.com/event/grand-archive-pantheon/
LOCATION:Modern Table Top gaming\, 15901 US Hwy 1\, Colonial Heights\, VA\, United States
GEO:37.305458;-77.40894
X-APPLE-STRUCTURED-LOCATION;VALUE=URI;X-ADDRESS=Modern Table Top gaming 15901 US Hwy 1 Colonial Heights VA United States;X-APPLE-RADIUS=500;X-TITLE=15901 US Hwy 1:geo:-77.40894,37.305458
END:VEVENT
END:VCALENDAR