BEGIN:VCALENDAR
VERSION:2.0
PRODID:-//Modern Table Top Gaming - ECPv6.15.20//NONSGML v1.0//EN
CALSCALE:GREGORIAN
METHOD:PUBLISH
X-ORIGINAL-URL:https://moderntabletoprva.com
X-WR-CALDESC:Events for Modern Table Top Gaming
REFRESH-INTERVAL;VALUE=DURATION:PT1H
X-Robots-Tag:noindex
X-PUBLISHED-TTL:PT1H
BEGIN:VTIMEZONE
TZID:America/New_York
BEGIN:DAYLIGHT
TZOFFSETFROM:-0500
TZOFFSETTO:-0400
TZNAME:EDT
DTSTART:20250309T070000
END:DAYLIGHT
BEGIN:STANDARD
TZOFFSETFROM:-0400
TZOFFSETTO:-0500
TZNAME:EST
DTSTART:20251102T060000
END:STANDARD
BEGIN:DAYLIGHT
TZOFFSETFROM:-0500
TZOFFSETTO:-0400
TZNAME:EDT
DTSTART:20260308T070000
END:DAYLIGHT
BEGIN:STANDARD
TZOFFSETFROM:-0400
TZOFFSETTO:-0500
TZNAME:EST
DTSTART:20261101T060000
END:STANDARD
BEGIN:DAYLIGHT
TZOFFSETFROM:-0500
TZOFFSETTO:-0400
TZNAME:EDT
DTSTART:20270314T070000
END:DAYLIGHT
BEGIN:STANDARD
TZOFFSETFROM:-0400
TZOFFSETTO:-0500
TZNAME:EST
DTSTART:20271107T060000
END:STANDARD
END:VTIMEZONE
BEGIN:VEVENT
DTSTART;TZID=America/New_York:20260406T183000
DTEND;TZID=America/New_York:20260406T213000
DTSTAMP:20260424T093802
CREATED:20260206T235740Z
LAST-MODIFIED:20260318T235957Z
UID:10005560-1775500200-1775511000@moderntabletoprva.com
SUMMARY:Standard League
DESCRIPTION:Entry: $5 (3 Round Max) \nStandard Booster on Entry
URL:https://moderntabletoprva.com/event/standard-league-58/
LOCATION:Modern Table Top gaming\, 15901 US Hwy 1\, Colonial Heights\, VA\, United States
GEO:37.305458;-77.40894
X-APPLE-STRUCTURED-LOCATION;VALUE=URI;X-ADDRESS=Modern Table Top gaming 15901 US Hwy 1 Colonial Heights VA United States;X-APPLE-RADIUS=500;X-TITLE=15901 US Hwy 1:geo:-77.40894,37.305458
END:VEVENT
BEGIN:VEVENT
DTSTART;TZID=America/New_York:20260406T183000
DTEND;TZID=America/New_York:20260406T213000
DTSTAMP:20260424T093802
CREATED:20260206T235740Z
LAST-MODIFIED:20260318T235957Z
UID:10005561-1775500200-1775511000@moderntabletoprva.com
SUMMARY:Lorcana League
DESCRIPTION:Entry: Free Format: Constructed 3 Rounds (Bo3) \nLeague Details \n🗓 Season DatesStarts: First Monday after release of a new setEnds: Top 8 playoff the Monday before a new set releaseTime: Mondays at 6:30pm \n🏆 Top 8 Prizing1st: Booster Box (current set)2nd: ½ Box3rd–8th: ¼ Box*Additional Prizing: Weekly Giveaways and promo cards for participants \n📊 Points System1 point for participation each weekAdditional points determined by event softwareStandings updated weekly here:https://moderntabletoprva.com/leaderboards/ \nIf there’s a tie for the final Top 8 spot\, there will be a playoff before the Top 8 event. \n📦 Preorder Priority Weekly tournament players will receive preorder priority. Participation points help us determine priority access. \nIf you’ve got questions\, drop them here—otherwise\, see you week one. \n-MODERN TABLE TOP GAMING“Where every game is a story and every player is family.”
URL:https://moderntabletoprva.com/event/lorcana-league-83/
LOCATION:Modern Table Top gaming\, 15901 US Hwy 1\, Colonial Heights\, VA\, United States
GEO:37.305458;-77.40894
X-APPLE-STRUCTURED-LOCATION;VALUE=URI;X-ADDRESS=Modern Table Top gaming 15901 US Hwy 1 Colonial Heights VA United States;X-APPLE-RADIUS=500;X-TITLE=15901 US Hwy 1:geo:-77.40894,37.305458
END:VEVENT
END:VCALENDAR