BEGIN:VCALENDAR
VERSION:2.0
PRODID:-//Modern Table Top Gaming - ECPv6.15.20//NONSGML v1.0//EN
CALSCALE:GREGORIAN
METHOD:PUBLISH
X-WR-CALNAME:Modern Table Top Gaming
X-ORIGINAL-URL:https://moderntabletoprva.com
X-WR-CALDESC:Events for Modern Table Top Gaming
REFRESH-INTERVAL;VALUE=DURATION:PT1H
X-Robots-Tag:noindex
X-PUBLISHED-TTL:PT1H
BEGIN:VTIMEZONE
TZID:America/New_York
BEGIN:DAYLIGHT
TZOFFSETFROM:-0500
TZOFFSETTO:-0400
TZNAME:EDT
DTSTART:20250309T070000
END:DAYLIGHT
BEGIN:STANDARD
TZOFFSETFROM:-0400
TZOFFSETTO:-0500
TZNAME:EST
DTSTART:20251102T060000
END:STANDARD
BEGIN:DAYLIGHT
TZOFFSETFROM:-0500
TZOFFSETTO:-0400
TZNAME:EDT
DTSTART:20260308T070000
END:DAYLIGHT
BEGIN:STANDARD
TZOFFSETFROM:-0400
TZOFFSETTO:-0500
TZNAME:EST
DTSTART:20261101T060000
END:STANDARD
BEGIN:DAYLIGHT
TZOFFSETFROM:-0500
TZOFFSETTO:-0400
TZNAME:EDT
DTSTART:20270314T070000
END:DAYLIGHT
BEGIN:STANDARD
TZOFFSETFROM:-0400
TZOFFSETTO:-0500
TZNAME:EST
DTSTART:20271107T060000
END:STANDARD
END:VTIMEZONE
BEGIN:VEVENT
DTSTART;TZID=America/New_York:20260419T120000
DTEND;TZID=America/New_York:20260419T170000
DTSTAMP:20260424T042327
CREATED:20260218T234354Z
LAST-MODIFIED:20260319T000019Z
UID:10005601-1776600000-1776618000@moderntabletoprva.com
SUMMARY:MTG Commander
DESCRIPTION:EntryFee: FreeOpen Play    Prize Support:   Join our Event via the companion app to be eligible for a Promo Pack    *Promos are available while supplies last
URL:https://moderntabletoprva.com/event/mtg-commander-243/
LOCATION:Modern Table Top gaming\, 15901 US Hwy 1\, Colonial Heights\, VA\, United States
GEO:37.305458;-77.40894
X-APPLE-STRUCTURED-LOCATION;VALUE=URI;X-ADDRESS=Modern Table Top gaming 15901 US Hwy 1 Colonial Heights VA United States;X-APPLE-RADIUS=500;X-TITLE=15901 US Hwy 1:geo:-77.40894,37.305458
END:VEVENT
BEGIN:VEVENT
DTSTART;TZID=America/New_York:20260419T123000
DTEND;TZID=America/New_York:20260419T170000
DTSTAMP:20260424T042327
CREATED:20260316T234928Z
LAST-MODIFIED:20260319T000020Z
UID:10005690-1776601800-1776618000@moderntabletoprva.com
SUMMARY:MTG: Secrets of Strixhaven Prerelease (2HG)
DESCRIPTION:Entry: $35 (3 Rounds) Sunday Apr. 19th (12:30pm) – 2HG (Playmats to winners)Event Code: ZQ3MWV6 *No prepayment.  Enter the Event Code into your MTG Companion App. Codes are on the event flyer.  Entry will be based on when you arrive and pay to be entered into the event. 
URL:https://moderntabletoprva.com/event/mtg-secrets-of-strixhaven-prerelease-2hg/
LOCATION:Modern Table Top gaming\, 15901 US Hwy 1\, Colonial Heights\, VA\, United States
GEO:37.305458;-77.40894
X-APPLE-STRUCTURED-LOCATION;VALUE=URI;X-ADDRESS=Modern Table Top gaming 15901 US Hwy 1 Colonial Heights VA United States;X-APPLE-RADIUS=500;X-TITLE=15901 US Hwy 1:geo:-77.40894,37.305458
END:VEVENT
BEGIN:VEVENT
DTSTART;TZID=America/New_York:20260419T140000
DTEND;TZID=America/New_York:20260419T173000
DTSTAMP:20260424T042327
CREATED:20260316T234931Z
LAST-MODIFIED:20260319T000023Z
UID:10005691-1776607200-1776619800@moderntabletoprva.com
SUMMARY:Commander Battle Royale: Secrets of Strixhaven
DESCRIPTION:Get 1 of the 5 new Commander Decks at Random.  Battle in a pod of 4 for the last person standing.  Entry: $50 (Prepay in store or online)Time: 2pmEvent Code: YEWWDJY (1 Round) Prize Support: Winner gets the remaining Commander Deck + 2 Set Boosters2nd – 4th = Set Booster20% off sleeves to sleeve your new deck
URL:https://moderntabletoprva.com/event/commander-battle-royale-secrets-of-strixhaven/
LOCATION:Modern Table Top gaming\, 15901 US Hwy 1\, Colonial Heights\, VA\, United States
GEO:37.305458;-77.40894
X-APPLE-STRUCTURED-LOCATION;VALUE=URI;X-ADDRESS=Modern Table Top gaming 15901 US Hwy 1 Colonial Heights VA United States;X-APPLE-RADIUS=500;X-TITLE=15901 US Hwy 1:geo:-77.40894,37.305458
END:VEVENT
END:VCALENDAR