BEGIN:VCALENDAR
VERSION:2.0
PRODID:-//Modern Table Top Gaming - ECPv6.15.20//NONSGML v1.0//EN
CALSCALE:GREGORIAN
METHOD:PUBLISH
X-ORIGINAL-URL:https://moderntabletoprva.com
X-WR-CALDESC:Events for Modern Table Top Gaming
REFRESH-INTERVAL;VALUE=DURATION:PT1H
X-Robots-Tag:noindex
X-PUBLISHED-TTL:PT1H
BEGIN:VTIMEZONE
TZID:America/New_York
BEGIN:DAYLIGHT
TZOFFSETFROM:-0500
TZOFFSETTO:-0400
TZNAME:EDT
DTSTART:20250309T070000
END:DAYLIGHT
BEGIN:STANDARD
TZOFFSETFROM:-0400
TZOFFSETTO:-0500
TZNAME:EST
DTSTART:20251102T060000
END:STANDARD
BEGIN:DAYLIGHT
TZOFFSETFROM:-0500
TZOFFSETTO:-0400
TZNAME:EDT
DTSTART:20260308T070000
END:DAYLIGHT
BEGIN:STANDARD
TZOFFSETFROM:-0400
TZOFFSETTO:-0500
TZNAME:EST
DTSTART:20261101T060000
END:STANDARD
BEGIN:DAYLIGHT
TZOFFSETFROM:-0500
TZOFFSETTO:-0400
TZNAME:EDT
DTSTART:20270314T070000
END:DAYLIGHT
BEGIN:STANDARD
TZOFFSETFROM:-0400
TZOFFSETTO:-0500
TZNAME:EST
DTSTART:20271107T060000
END:STANDARD
END:VTIMEZONE
BEGIN:VEVENT
DTSTART;TZID=America/New_York:20260502T110000
DTEND;TZID=America/New_York:20260502T140000
DTSTAMP:20260424T075409
CREATED:20260421T030846Z
LAST-MODIFIED:20260423T235953Z
UID:10005703-1777719600-1777730400@moderntabletoprva.com
SUMMARY:Pokémon League
DESCRIPTION:Entry: Free Pokémon League is a fun and accessible way for Pokémon fans to get together and have some fun! League events are open to all Pokémon TCG and video game players regardless of experience level or skill. Using your own cards and Pokémon video games\, you can play\, trade\, and even earn cool prizes! The best part is that you can do all this with other Pokémon players who love collecting and playing just as much as you do.Pokémon League events area great way to learn game basics and get the feel for Pokémon competitive play before beginning to compete in Pokémon tournaments.
URL:https://moderntabletoprva.com/event/pokemon-league-79/
LOCATION:Modern Table Top gaming\, 15901 US Hwy 1\, Colonial Heights\, VA\, United States
GEO:37.305458;-77.40894
X-APPLE-STRUCTURED-LOCATION;VALUE=URI;X-ADDRESS=Modern Table Top gaming 15901 US Hwy 1 Colonial Heights VA United States;X-APPLE-RADIUS=500;X-TITLE=15901 US Hwy 1:geo:-77.40894,37.305458
END:VEVENT
BEGIN:VEVENT
DTSTART;TZID=America/New_York:20260502T123000
DTEND;TZID=America/New_York:20260502T150000
DTSTAMP:20260424T075409
CREATED:20260421T030845Z
LAST-MODIFIED:20260423T235954Z
UID:10005702-1777725000-1777734000@moderntabletoprva.com
SUMMARY:Riftbound: Unleashed Pre-Rift Event
DESCRIPTION:Entry: $30 Format: Sealed Cap 36Prepay on our website to lock in your spot **Playing in prerift event you can buy a booster box for $115 at the event**
URL:https://moderntabletoprva.com/event/riftbound-unleashed-pre-rift-event-2/
LOCATION:Modern Table Top gaming\, 15901 US Hwy 1\, Colonial Heights\, VA\, United States
GEO:37.305458;-77.40894
X-APPLE-STRUCTURED-LOCATION;VALUE=URI;X-ADDRESS=Modern Table Top gaming 15901 US Hwy 1 Colonial Heights VA United States;X-APPLE-RADIUS=500;X-TITLE=15901 US Hwy 1:geo:-77.40894,37.305458
END:VEVENT
BEGIN:VEVENT
DTSTART;TZID=America/New_York:20260502T140000
DTEND;TZID=America/New_York:20260502T170000
DTSTAMP:20260424T075409
CREATED:20260304T000116Z
LAST-MODIFIED:20260423T235953Z
UID:10005646-1777730400-1777741200@moderntabletoprva.com
SUMMARY:D&D
DESCRIPTION:Entry Fee: $5Parties are usually already establishedContact Party and Dungeon Master via our Discord to determine availability
URL:https://moderntabletoprva.com/event/dd-429/
LOCATION:Modern Table Top gaming\, 15901 US Hwy 1\, Colonial Heights\, VA\, United States
GEO:37.305458;-77.40894
X-APPLE-STRUCTURED-LOCATION;VALUE=URI;X-ADDRESS=Modern Table Top gaming 15901 US Hwy 1 Colonial Heights VA United States;X-APPLE-RADIUS=500;X-TITLE=15901 US Hwy 1:geo:-77.40894,37.305458
END:VEVENT
BEGIN:VEVENT
DTSTART;TZID=America/New_York:20260502T150000
DTEND;TZID=America/New_York:20260502T180000
DTSTAMP:20260424T075409
CREATED:20260421T030847Z
LAST-MODIFIED:20260423T235954Z
UID:10005704-1777734000-1777744800@moderntabletoprva.com
SUMMARY:Riftbound: Unleashed Pre-Rift Event
DESCRIPTION:Entry: $30 Format: Sealed Cap 36Prepay on our website to lock in your spot **Playing in prerift event you can buy a booster box for $115 at the event**
URL:https://moderntabletoprva.com/event/riftbound-unleashed-pre-rift-event-3/
LOCATION:Modern Table Top gaming\, 15901 US Hwy 1\, Colonial Heights\, VA\, United States
GEO:37.305458;-77.40894
X-APPLE-STRUCTURED-LOCATION;VALUE=URI;X-ADDRESS=Modern Table Top gaming 15901 US Hwy 1 Colonial Heights VA United States;X-APPLE-RADIUS=500;X-TITLE=15901 US Hwy 1:geo:-77.40894,37.305458
END:VEVENT
END:VCALENDAR