BEGIN:VCALENDAR
VERSION:2.0
PRODID:-//Modern Table Top Gaming - ECPv6.15.20//NONSGML v1.0//EN
CALSCALE:GREGORIAN
METHOD:PUBLISH
X-WR-CALNAME:Modern Table Top Gaming
X-ORIGINAL-URL:https://moderntabletoprva.com
X-WR-CALDESC:Events for Modern Table Top Gaming
REFRESH-INTERVAL;VALUE=DURATION:PT1H
X-Robots-Tag:noindex
X-PUBLISHED-TTL:PT1H
BEGIN:VTIMEZONE
TZID:America/New_York
BEGIN:DAYLIGHT
TZOFFSETFROM:-0500
TZOFFSETTO:-0400
TZNAME:EDT
DTSTART:20250309T070000
END:DAYLIGHT
BEGIN:STANDARD
TZOFFSETFROM:-0400
TZOFFSETTO:-0500
TZNAME:EST
DTSTART:20251102T060000
END:STANDARD
BEGIN:DAYLIGHT
TZOFFSETFROM:-0500
TZOFFSETTO:-0400
TZNAME:EDT
DTSTART:20260308T070000
END:DAYLIGHT
BEGIN:STANDARD
TZOFFSETFROM:-0400
TZOFFSETTO:-0500
TZNAME:EST
DTSTART:20261101T060000
END:STANDARD
BEGIN:DAYLIGHT
TZOFFSETFROM:-0500
TZOFFSETTO:-0400
TZNAME:EDT
DTSTART:20270314T070000
END:DAYLIGHT
BEGIN:STANDARD
TZOFFSETFROM:-0400
TZOFFSETTO:-0500
TZNAME:EST
DTSTART:20271107T060000
END:STANDARD
END:VTIMEZONE
BEGIN:VEVENT
DTSTART;TZID=America/New_York:20260509T110000
DTEND;TZID=America/New_York:20260509T140000
DTSTAMP:20260424T093247
CREATED:20260421T030907Z
LAST-MODIFIED:20260424T000003Z
UID:10005710-1778324400-1778335200@moderntabletoprva.com
SUMMARY:Pokémon League
DESCRIPTION:Entry: Free Pokémon League is a fun and accessible way for Pokémon fans to get together and have some fun! League events are open to all Pokémon TCG and video game players regardless of experience level or skill. Using your own cards and Pokémon video games\, you can play\, trade\, and even earn cool prizes! The best part is that you can do all this with other Pokémon players who love collecting and playing just as much as you do.Pokémon League events area great way to learn game basics and get the feel for Pokémon competitive play before beginning to compete in Pokémon tournaments.
URL:https://moderntabletoprva.com/event/pokemon-league-80/
LOCATION:Modern Table Top gaming\, 15901 US Hwy 1\, Colonial Heights\, VA\, United States
GEO:37.305458;-77.40894
X-APPLE-STRUCTURED-LOCATION;VALUE=URI;X-ADDRESS=Modern Table Top gaming 15901 US Hwy 1 Colonial Heights VA United States;X-APPLE-RADIUS=500;X-TITLE=15901 US Hwy 1:geo:-77.40894,37.305458
END:VEVENT
BEGIN:VEVENT
DTSTART;TZID=America/New_York:20260509T120000
DTEND;TZID=America/New_York:20260509T150000
DTSTAMP:20260424T093247
CREATED:20260421T030906Z
LAST-MODIFIED:20260424T000004Z
UID:10005709-1778328000-1778338800@moderntabletoprva.com
SUMMARY:Pokémon: Chaos Rising Prerelease
DESCRIPTION:Join Modern Table Top Gaming for another epic Pokémon Prerelease. We’ll build decks with our kits\, play a three round tournament amongst friends\, and walk away with three packs of the newest set! \n \nEntry Fee: $30 \nFormat: Sealed\, 3-Swiss Rounds \n \nPlayers will receive the newest Build and Battle Box and create a deck from it’s contents! \nPrizes: Everyone will receive three packs\, regardless of standings as long as you complete the event! \nBuild and Battle Box Includes: A 40-card ready-to-play deck\, including 1 of 4 unique foil promo cards\, 4 Pokémon TCG: booster packs and a code card for Pokémon TCG Live. \n \n*Payment is for PLAYING in the event. If you are a no show there will be a refund and players waiting to play will be forwarded the opportunity.
URL:https://moderntabletoprva.com/event/pokemon-chaos-rising-prerelease/
LOCATION:Modern Table Top gaming\, 15901 US Hwy 1\, Colonial Heights\, VA\, United States
GEO:37.305458;-77.40894
X-APPLE-STRUCTURED-LOCATION;VALUE=URI;X-ADDRESS=Modern Table Top gaming 15901 US Hwy 1 Colonial Heights VA United States;X-APPLE-RADIUS=500;X-TITLE=15901 US Hwy 1:geo:-77.40894,37.305458
END:VEVENT
BEGIN:VEVENT
DTSTART;TZID=America/New_York:20260509T140000
DTEND;TZID=America/New_York:20260509T170000
DTSTAMP:20260424T093247
CREATED:20260310T234715Z
LAST-MODIFIED:20260424T000008Z
UID:10005667-1778335200-1778346000@moderntabletoprva.com
SUMMARY:D&D
DESCRIPTION:Entry Fee: $5Parties are usually already establishedContact Party and Dungeon Master via our Discord to determine availability
URL:https://moderntabletoprva.com/event/dd-434/
LOCATION:Modern Table Top gaming\, 15901 US Hwy 1\, Colonial Heights\, VA\, United States
GEO:37.305458;-77.40894
X-APPLE-STRUCTURED-LOCATION;VALUE=URI;X-ADDRESS=Modern Table Top gaming 15901 US Hwy 1 Colonial Heights VA United States;X-APPLE-RADIUS=500;X-TITLE=15901 US Hwy 1:geo:-77.40894,37.305458
END:VEVENT
BEGIN:VEVENT
DTSTART;TZID=America/New_York:20260509T143000
DTEND;TZID=America/New_York:20260509T170000
DTSTAMP:20260424T093247
CREATED:20260421T030909Z
LAST-MODIFIED:20260424T000008Z
UID:10005711-1778337000-1778346000@moderntabletoprva.com
SUMMARY:Riftbound
DESCRIPTION:Entry: $6Booster pack on entry
URL:https://moderntabletoprva.com/event/riftbound-21/
LOCATION:Modern Table Top gaming\, 15901 US Hwy 1\, Colonial Heights\, VA\, United States
GEO:37.305458;-77.40894
X-APPLE-STRUCTURED-LOCATION;VALUE=URI;X-ADDRESS=Modern Table Top gaming 15901 US Hwy 1 Colonial Heights VA United States;X-APPLE-RADIUS=500;X-TITLE=15901 US Hwy 1:geo:-77.40894,37.305458
END:VEVENT
BEGIN:VEVENT
DTSTART;TZID=America/New_York:20260509T150000
DTEND;TZID=America/New_York:20260509T180000
DTSTAMP:20260424T093248
CREATED:20260421T030910Z
LAST-MODIFIED:20260424T000007Z
UID:10005712-1778338800-1778349600@moderntabletoprva.com
SUMMARY:Pokémon: Chaos Rising Prerelease
DESCRIPTION:Join Modern Table Top Gaming for another epic Pokémon Prerelease. We'll build decks with our kits\, play a three round tournament amongst friends\, and walk away with three packs of the newest set! \n \nEntry Fee: $30 \nFormat: Sealed\, 3-Swiss Rounds \n \nPlayers will receive the newest Build and Battle Box and create a deck from it's contents! \nPrizes: Everyone will receive three packs\, regardless of standings as long as you complete the event! \nBuild and Battle Box Includes: A 40-card ready-to-play deck\, including 1 of 4 unique foil promo cards\, 4 Pokémon TCG: booster packs and a code card for Pokémon TCG Live. \n \n*Payment is for PLAYING in the event. If you are a no show there will be a refund and players waiting to play will be forwarded the opportunity.
URL:https://moderntabletoprva.com/event/pokemon-chaos-rising-prerelease-2/
LOCATION:Modern Table Top gaming\, 15901 US Hwy 1\, Colonial Heights\, VA\, United States
GEO:37.305458;-77.40894
X-APPLE-STRUCTURED-LOCATION;VALUE=URI;X-ADDRESS=Modern Table Top gaming 15901 US Hwy 1 Colonial Heights VA United States;X-APPLE-RADIUS=500;X-TITLE=15901 US Hwy 1:geo:-77.40894,37.305458
END:VEVENT
END:VCALENDAR