BEGIN:VCALENDAR
VERSION:2.0
PRODID:-//Modern Table Top Gaming - ECPv6.15.20//NONSGML v1.0//EN
CALSCALE:GREGORIAN
METHOD:PUBLISH
X-WR-CALNAME:Modern Table Top Gaming
X-ORIGINAL-URL:https://moderntabletoprva.com
X-WR-CALDESC:Events for Modern Table Top Gaming
REFRESH-INTERVAL;VALUE=DURATION:PT1H
X-Robots-Tag:noindex
X-PUBLISHED-TTL:PT1H
BEGIN:VTIMEZONE
TZID:America/New_York
BEGIN:DAYLIGHT
TZOFFSETFROM:-0500
TZOFFSETTO:-0400
TZNAME:EDT
DTSTART:20250309T070000
END:DAYLIGHT
BEGIN:STANDARD
TZOFFSETFROM:-0400
TZOFFSETTO:-0500
TZNAME:EST
DTSTART:20251102T060000
END:STANDARD
BEGIN:DAYLIGHT
TZOFFSETFROM:-0500
TZOFFSETTO:-0400
TZNAME:EDT
DTSTART:20260308T070000
END:DAYLIGHT
BEGIN:STANDARD
TZOFFSETFROM:-0400
TZOFFSETTO:-0500
TZNAME:EST
DTSTART:20261101T060000
END:STANDARD
BEGIN:DAYLIGHT
TZOFFSETFROM:-0500
TZOFFSETTO:-0400
TZNAME:EDT
DTSTART:20270314T070000
END:DAYLIGHT
BEGIN:STANDARD
TZOFFSETFROM:-0400
TZOFFSETTO:-0500
TZNAME:EST
DTSTART:20271107T060000
END:STANDARD
END:VTIMEZONE
BEGIN:VEVENT
DTSTART;TZID=America/New_York:20260527T120000
DTEND;TZID=America/New_York:20260527T220000
DTSTAMP:20260424T122229
CREATED:20260421T030950Z
LAST-MODIFIED:20260424T000032Z
UID:10005751-1779883200-1779919200@moderntabletoprva.com
SUMMARY:MTG Commander
DESCRIPTION:Entry Fee: FreeOpen Play Prize Support: \nJoin our Event via the companion app to be eligible for a Promo Pack *Promos are available while supplies last
URL:https://moderntabletoprva.com/event/mtg-commander-262/
LOCATION:Modern Table Top gaming\, 15901 US Hwy 1\, Colonial Heights\, VA\, United States
GEO:37.305458;-77.40894
X-APPLE-STRUCTURED-LOCATION;VALUE=URI;X-ADDRESS=Modern Table Top gaming 15901 US Hwy 1 Colonial Heights VA United States;X-APPLE-RADIUS=500;X-TITLE=15901 US Hwy 1:geo:-77.40894,37.305458
END:VEVENT
BEGIN:VEVENT
DTSTART;TZID=America/New_York:20260527T183000
DTEND;TZID=America/New_York:20260527T213000
DTSTAMP:20260424T122229
CREATED:20260421T030948Z
LAST-MODIFIED:20260424T000033Z
UID:10005749-1779906600-1779917400@moderntabletoprva.com
SUMMARY:D&D
DESCRIPTION:Entry Fee: $5Parties are usually already established. Contact Party and Dungeon Master via our Discord to determine availability  
URL:https://moderntabletoprva.com/event/dd-446/
LOCATION:Modern Table Top gaming\, 15901 US Hwy 1\, Colonial Heights\, VA\, United States
GEO:37.305458;-77.40894
X-APPLE-STRUCTURED-LOCATION;VALUE=URI;X-ADDRESS=Modern Table Top gaming 15901 US Hwy 1 Colonial Heights VA United States;X-APPLE-RADIUS=500;X-TITLE=15901 US Hwy 1:geo:-77.40894,37.305458
END:VEVENT
BEGIN:VEVENT
DTSTART;TZID=America/New_York:20260527T183000
DTEND;TZID=America/New_York:20260527T220000
DTSTAMP:20260424T122229
CREATED:20260421T030951Z
LAST-MODIFIED:20260424T000032Z
UID:10005752-1779906600-1779919200@moderntabletoprva.com
SUMMARY:MTG Canadian Highlander
DESCRIPTION:$5 Entry. Proxy friendly.
URL:https://moderntabletoprva.com/event/mtg-canadian-highlander-89/
LOCATION:Modern Table Top gaming\, 15901 US Hwy 1\, Colonial Heights\, VA\, United States
GEO:37.305458;-77.40894
X-APPLE-STRUCTURED-LOCATION;VALUE=URI;X-ADDRESS=Modern Table Top gaming 15901 US Hwy 1 Colonial Heights VA United States;X-APPLE-RADIUS=500;X-TITLE=15901 US Hwy 1:geo:-77.40894,37.305458
END:VEVENT
BEGIN:VEVENT
DTSTART;TZID=America/New_York:20260527T190000
DTEND;TZID=America/New_York:20260527T220000
DTSTAMP:20260424T122229
CREATED:20260421T030949Z
LAST-MODIFIED:20260424T000032Z
UID:10005750-1779908400-1779919200@moderntabletoprva.com
SUMMARY:One Piece
DESCRIPTION:Entry – $6Store Credit to Top Performers
URL:https://moderntabletoprva.com/event/one-piece-88/
LOCATION:Modern Table Top gaming\, 15901 US Hwy 1\, Colonial Heights\, VA\, United States
GEO:37.305458;-77.40894
X-APPLE-STRUCTURED-LOCATION;VALUE=URI;X-ADDRESS=Modern Table Top gaming 15901 US Hwy 1 Colonial Heights VA United States;X-APPLE-RADIUS=500;X-TITLE=15901 US Hwy 1:geo:-77.40894,37.305458
END:VEVENT
BEGIN:VEVENT
DTSTART;TZID=America/New_York:20260528T120000
DTEND;TZID=America/New_York:20260528T220000
DTSTAMP:20260424T122229
CREATED:20260421T030952Z
LAST-MODIFIED:20260424T000033Z
UID:10005754-1779969600-1780005600@moderntabletoprva.com
SUMMARY:MTG Commander
DESCRIPTION:Entry Fee: FreeOpen Play Prize Support: \nJoin our Event via the companion app to be eligible for a Promo Pack *Promos are available while supplies last
URL:https://moderntabletoprva.com/event/mtg-commander-263/
LOCATION:Modern Table Top gaming\, 15901 US Hwy 1\, Colonial Heights\, VA\, United States
GEO:37.305458;-77.40894
X-APPLE-STRUCTURED-LOCATION;VALUE=URI;X-ADDRESS=Modern Table Top gaming 15901 US Hwy 1 Colonial Heights VA United States;X-APPLE-RADIUS=500;X-TITLE=15901 US Hwy 1:geo:-77.40894,37.305458
END:VEVENT
BEGIN:VEVENT
DTSTART;TZID=America/New_York:20260528T183000
DTEND;TZID=America/New_York:20260528T213000
DTSTAMP:20260424T122229
CREATED:20260421T030951Z
LAST-MODIFIED:20260424T000033Z
UID:10005753-1779993000-1780003800@moderntabletoprva.com
SUMMARY:D&D
DESCRIPTION:Entry Fee: $5Parties are usually already establishedContact Party and Dungeon Master via our Discord to determine availability
URL:https://moderntabletoprva.com/event/dd-447/
LOCATION:Modern Table Top gaming\, 15901 US Hwy 1\, Colonial Heights\, VA\, United States
GEO:37.305458;-77.40894
X-APPLE-STRUCTURED-LOCATION;VALUE=URI;X-ADDRESS=Modern Table Top gaming 15901 US Hwy 1 Colonial Heights VA United States;X-APPLE-RADIUS=500;X-TITLE=15901 US Hwy 1:geo:-77.40894,37.305458
END:VEVENT
BEGIN:VEVENT
DTSTART;TZID=America/New_York:20260528T183000
DTEND;TZID=America/New_York:20260528T213000
DTSTAMP:20260424T122229
CREATED:20260421T030953Z
LAST-MODIFIED:20260424T000033Z
UID:10005755-1779993000-1780003800@moderntabletoprva.com
SUMMARY:Union Arena
DESCRIPTION:Entry – $6 Format – Constructed 2 Booster Packs on EntryUndefeated gets an extra Booster Pack
URL:https://moderntabletoprva.com/event/union-arena-76/
LOCATION:Modern Table Top gaming\, 15901 US Hwy 1\, Colonial Heights\, VA\, United States
GEO:37.305458;-77.40894
X-APPLE-STRUCTURED-LOCATION;VALUE=URI;X-ADDRESS=Modern Table Top gaming 15901 US Hwy 1 Colonial Heights VA United States;X-APPLE-RADIUS=500;X-TITLE=15901 US Hwy 1:geo:-77.40894,37.305458
END:VEVENT
BEGIN:VEVENT
DTSTART;TZID=America/New_York:20260529T120000
DTEND;TZID=America/New_York:20260529T213000
DTSTAMP:20260424T122229
CREATED:20260421T030954Z
LAST-MODIFIED:20260424T000034Z
UID:10005757-1780056000-1780090200@moderntabletoprva.com
SUMMARY:FNM Commander
DESCRIPTION:Entry Fee: FreeOpen Play Prize Support: \nJoin our Event via the companion app to be eligible for a Promo Pack *Promos are available while supplies last
URL:https://moderntabletoprva.com/event/fnm-commander-88/
LOCATION:Modern Table Top gaming\, 15901 US Hwy 1\, Colonial Heights\, VA\, United States
GEO:37.305458;-77.40894
X-APPLE-STRUCTURED-LOCATION;VALUE=URI;X-ADDRESS=Modern Table Top gaming 15901 US Hwy 1 Colonial Heights VA United States;X-APPLE-RADIUS=500;X-TITLE=15901 US Hwy 1:geo:-77.40894,37.305458
END:VEVENT
BEGIN:VEVENT
DTSTART;TZID=America/New_York:20260529T183000
DTEND;TZID=America/New_York:20260529T213000
DTSTAMP:20260424T122229
CREATED:20260421T030955Z
LAST-MODIFIED:20260424T000034Z
UID:10005758-1780079400-1780090200@moderntabletoprva.com
SUMMARY:D&D
DESCRIPTION:Entry Fee: $5Parties are usually already establishedContact Party and Dungeon Master via our Discord to determine availability
URL:https://moderntabletoprva.com/event/dd-448/
LOCATION:Modern Table Top gaming\, 15901 US Hwy 1\, Colonial Heights\, VA\, United States
GEO:37.305458;-77.40894
X-APPLE-STRUCTURED-LOCATION;VALUE=URI;X-ADDRESS=Modern Table Top gaming 15901 US Hwy 1 Colonial Heights VA United States;X-APPLE-RADIUS=500;X-TITLE=15901 US Hwy 1:geo:-77.40894,37.305458
END:VEVENT
BEGIN:VEVENT
DTSTART;TZID=America/New_York:20260529T183000
DTEND;TZID=America/New_York:20260529T223000
DTSTAMP:20260424T122229
CREATED:20260421T030955Z
LAST-MODIFIED:20260424T000034Z
UID:10005759-1780079400-1780093800@moderntabletoprva.com
SUMMARY:Grand Archive
DESCRIPTION:Constructed Event (3 Rounds)Entry: $5*Booster Pack on Entry \nEvent Pack Payout \n3-0 = 3g / 2s \n2-0-1 = 2g / 2s \n2-1 = 1g / 2s \n1-2 = 2s \n0-3 = 1s
URL:https://moderntabletoprva.com/event/grand-archive-90/
LOCATION:Modern Table Top gaming\, 15901 US Hwy 1\, Colonial Heights\, VA\, United States
GEO:37.305458;-77.40894
X-APPLE-STRUCTURED-LOCATION;VALUE=URI;X-ADDRESS=Modern Table Top gaming 15901 US Hwy 1 Colonial Heights VA United States;X-APPLE-RADIUS=500;X-TITLE=15901 US Hwy 1:geo:-77.40894,37.305458
END:VEVENT
BEGIN:VEVENT
DTSTART;TZID=America/New_York:20260529T190000
DTEND;TZID=America/New_York:20260529T223000
DTSTAMP:20260424T122229
CREATED:20260421T030953Z
LAST-MODIFIED:20260424T000035Z
UID:10005756-1780081200-1780093800@moderntabletoprva.com
SUMMARY:Magic Presents: Open the Archive
DESCRIPTION:Format: Secrets of Strixhaven Pick 2 Draft (2 Rounds)*Special Draft Rules (Read Below)Entry: $15Time: 7pmCode: 2P47V84Prize Support: Packs from Drafted Set2-0 = 1 Foil Promo Pack + 4 Play Boosters1-1 = 2 Play Booster Here\, you’ll draft Secrets of Strixhaven with a few special rules to enhance the experience. During your draft\, you’ll take a Mystical Archive card in each Play Booster you open in addition to your first pick. If your Play Booster happens to have more than one Mystical Archive card in it\, your first pick could be another Mystical Archive card. During your games\, you can spend mana as though it were mana of any color to cast your Mystical Archive cards. Players who participate in at least one Magic Presents: Open the Archive event will receive a Ral Zarek\, Guest Lecturer avatar on MTG Arena. By finishing this event with a winning record\, you’ll receive a special Pinfinity coin featuring artwork related to the Mystical Archive while supplies last
URL:https://moderntabletoprva.com/event/magic-presents-open-the-archive-2/
LOCATION:Modern Table Top gaming\, 15901 US Hwy 1\, Colonial Heights\, VA\, United States
GEO:37.305458;-77.40894
X-APPLE-STRUCTURED-LOCATION;VALUE=URI;X-ADDRESS=Modern Table Top gaming 15901 US Hwy 1 Colonial Heights VA United States;X-APPLE-RADIUS=500;X-TITLE=15901 US Hwy 1:geo:-77.40894,37.305458
END:VEVENT
BEGIN:VEVENT
DTSTART;TZID=America/New_York:20260530T110000
DTEND;TZID=America/New_York:20260530T140000
DTSTAMP:20260424T122229
CREATED:20260421T030956Z
LAST-MODIFIED:20260424T000036Z
UID:10005760-1780138800-1780149600@moderntabletoprva.com
SUMMARY:Pokémon League
DESCRIPTION:Entry: Free Pokémon League is a fun and accessible way for Pokémon fans to get together and have some fun! League events are open to all Pokémon TCG and video game players regardless of experience level or skill. Using your own cards and Pokémon video games\, you can play\, trade\, and even earn cool prizes! The best part is that you can do all this with other Pokémon players who love collecting and playing just as much as you do.Pokémon League events area great way to learn game basics and get the feel for Pokémon competitive play before beginning to compete in Pokémon tournaments.
URL:https://moderntabletoprva.com/event/pokemon-league-83/
LOCATION:Modern Table Top gaming\, 15901 US Hwy 1\, Colonial Heights\, VA\, United States
GEO:37.305458;-77.40894
X-APPLE-STRUCTURED-LOCATION;VALUE=URI;X-ADDRESS=Modern Table Top gaming 15901 US Hwy 1 Colonial Heights VA United States;X-APPLE-RADIUS=500;X-TITLE=15901 US Hwy 1:geo:-77.40894,37.305458
END:VEVENT
BEGIN:VEVENT
DTSTART;TZID=America/New_York:20260530T113000
DTEND;TZID=America/New_York:20260530T180000
DTSTAMP:20260424T122229
CREATED:20260421T030958Z
LAST-MODIFIED:20260424T000035Z
UID:10005763-1780140600-1780164000@moderntabletoprva.com
SUMMARY:Grand Archive: Radiant Origins Store Championship
DESCRIPTION:Time: 11:30am (Must be checked in by this time)Entry: $15Rounds: 5 Swiss (No Cut)DECK LISTS REQUIRED.  UPLOAD BEFORE CHECKING IN.  ALL PLAYERS MUST CHECK IN ON ARRIVAL!3 Booster Packs on Entry
URL:https://moderntabletoprva.com/event/grand-archive-radiant-origins-store-championship/
LOCATION:Modern Table Top gaming\, 15901 US Hwy 1\, Colonial Heights\, VA\, United States
GEO:37.305458;-77.40894
X-APPLE-STRUCTURED-LOCATION;VALUE=URI;X-ADDRESS=Modern Table Top gaming 15901 US Hwy 1 Colonial Heights VA United States;X-APPLE-RADIUS=500;X-TITLE=15901 US Hwy 1:geo:-77.40894,37.305458
END:VEVENT
BEGIN:VEVENT
DTSTART;TZID=America/New_York:20260530T140000
DTEND;TZID=America/New_York:20260530T170000
DTSTAMP:20260424T122229
CREATED:20260421T030956Z
LAST-MODIFIED:20260424T000035Z
UID:10005761-1780149600-1780160400@moderntabletoprva.com
SUMMARY:D&D
DESCRIPTION:Entry Fee: $5Parties are usually already establishedContact Party and Dungeon Master via our Discord to determine availability
URL:https://moderntabletoprva.com/event/dd-449/
LOCATION:Modern Table Top gaming\, 15901 US Hwy 1\, Colonial Heights\, VA\, United States
GEO:37.305458;-77.40894
X-APPLE-STRUCTURED-LOCATION;VALUE=URI;X-ADDRESS=Modern Table Top gaming 15901 US Hwy 1 Colonial Heights VA United States;X-APPLE-RADIUS=500;X-TITLE=15901 US Hwy 1:geo:-77.40894,37.305458
END:VEVENT
BEGIN:VEVENT
DTSTART;TZID=America/New_York:20260530T143000
DTEND;TZID=America/New_York:20260530T170000
DTSTAMP:20260424T122229
CREATED:20260421T030957Z
LAST-MODIFIED:20260424T000036Z
UID:10005762-1780151400-1780160400@moderntabletoprva.com
SUMMARY:Riftbound
DESCRIPTION:Entry: $6Booster pack on entry
URL:https://moderntabletoprva.com/event/riftbound-24/
LOCATION:Modern Table Top gaming\, 15901 US Hwy 1\, Colonial Heights\, VA\, United States
GEO:37.305458;-77.40894
X-APPLE-STRUCTURED-LOCATION;VALUE=URI;X-ADDRESS=Modern Table Top gaming 15901 US Hwy 1 Colonial Heights VA United States;X-APPLE-RADIUS=500;X-TITLE=15901 US Hwy 1:geo:-77.40894,37.305458
END:VEVENT
BEGIN:VEVENT
DTSTART;TZID=America/New_York:20260531T110000
DTEND;TZID=America/New_York:20260531T180000
DTSTAMP:20260424T122229
CREATED:20260421T030959Z
LAST-MODIFIED:20260424T000036Z
UID:10005764-1780225200-1780250400@moderntabletoprva.com
SUMMARY:MTG Commander
DESCRIPTION:EntryFee: FreeOpen Play    Prize Support:   Join our Event via the companion app to be eligible for a Promo Pack    *Promos are available while supplies last
URL:https://moderntabletoprva.com/event/mtg-commander-264/
LOCATION:Modern Table Top gaming\, 15901 US Hwy 1\, Colonial Heights\, VA\, United States
GEO:37.305458;-77.40894
X-APPLE-STRUCTURED-LOCATION;VALUE=URI;X-ADDRESS=Modern Table Top gaming 15901 US Hwy 1 Colonial Heights VA United States;X-APPLE-RADIUS=500;X-TITLE=15901 US Hwy 1:geo:-77.40894,37.305458
END:VEVENT
BEGIN:VEVENT
DTSTART;TZID=America/New_York:20260601T183000
DTEND;TZID=America/New_York:20260601T213000
DTSTAMP:20260424T122229
CREATED:20260421T031000Z
LAST-MODIFIED:20260424T000037Z
UID:10005765-1780338600-1780349400@moderntabletoprva.com
SUMMARY:Standard League
DESCRIPTION:Entry: $5 (3 Round Max) \nStandard Booster on Entry
URL:https://moderntabletoprva.com/event/standard-league-66/
LOCATION:Modern Table Top gaming\, 15901 US Hwy 1\, Colonial Heights\, VA\, United States
GEO:37.305458;-77.40894
X-APPLE-STRUCTURED-LOCATION;VALUE=URI;X-ADDRESS=Modern Table Top gaming 15901 US Hwy 1 Colonial Heights VA United States;X-APPLE-RADIUS=500;X-TITLE=15901 US Hwy 1:geo:-77.40894,37.305458
END:VEVENT
BEGIN:VEVENT
DTSTART;TZID=America/New_York:20260601T183000
DTEND;TZID=America/New_York:20260601T213000
DTSTAMP:20260424T122229
CREATED:20260421T031001Z
LAST-MODIFIED:20260424T000036Z
UID:10005766-1780338600-1780349400@moderntabletoprva.com
SUMMARY:Lorcana League
DESCRIPTION:Entry: Free Format: Constructed 3 Rounds (Bo3) \nLeague Details \n🗓 Season DatesStarts: First Monday after release of a new setEnds: Top 8 playoff the Monday before a new set releaseTime: Mondays at 6:30pm \n🏆 Top 8 Prizing1st: Booster Box (current set)2nd: ½ Box3rd–8th: ¼ Box*Additional Prizing: Weekly Giveaways and promo cards for participants \n📊 Points System1 point for participation each weekAdditional points determined by event softwareStandings updated weekly here:https://moderntabletoprva.com/leaderboards/ \nIf there’s a tie for the final Top 8 spot\, there will be a playoff before the Top 8 event. \n📦 Preorder Priority Weekly tournament players will receive preorder priority. Participation points help us determine priority access. \nIf you’ve got questions\, drop them here—otherwise\, see you week one. \n-MODERN TABLE TOP GAMING“Where every game is a story and every player is family.”
URL:https://moderntabletoprva.com/event/lorcana-league-91/
LOCATION:Modern Table Top gaming\, 15901 US Hwy 1\, Colonial Heights\, VA\, United States
GEO:37.305458;-77.40894
X-APPLE-STRUCTURED-LOCATION;VALUE=URI;X-ADDRESS=Modern Table Top gaming 15901 US Hwy 1 Colonial Heights VA United States;X-APPLE-RADIUS=500;X-TITLE=15901 US Hwy 1:geo:-77.40894,37.305458
END:VEVENT
BEGIN:VEVENT
DTSTART;TZID=America/New_York:20260602T183000
DTEND;TZID=America/New_York:20260602T213000
DTSTAMP:20260424T122229
CREATED:20260421T031003Z
LAST-MODIFIED:20260424T000037Z
UID:10005768-1780425000-1780435800@moderntabletoprva.com
SUMMARY:D&D
DESCRIPTION:Entry Fee: $5Parties are usually already establishedContact Party and Dungeon Master via our Discord to determine availability
URL:https://moderntabletoprva.com/event/dd-450/
LOCATION:Modern Table Top gaming\, 15901 US Hwy 1\, Colonial Heights\, VA\, United States
GEO:37.305458;-77.40894
X-APPLE-STRUCTURED-LOCATION;VALUE=URI;X-ADDRESS=Modern Table Top gaming 15901 US Hwy 1 Colonial Heights VA United States;X-APPLE-RADIUS=500;X-TITLE=15901 US Hwy 1:geo:-77.40894,37.305458
END:VEVENT
BEGIN:VEVENT
DTSTART;TZID=America/New_York:20260602T183000
DTEND;TZID=America/New_York:20260602T220000
DTSTAMP:20260424T122229
CREATED:20260421T031006Z
LAST-MODIFIED:20260424T000037Z
UID:10005769-1780425000-1780437600@moderntabletoprva.com
SUMMARY:Digimon
DESCRIPTION:ENTRY: $6.00 (Promo Pack on entry) \nROUNDS: 3 Rounds \nPRIZE SUPPORT: \nStore Credit paid out to Top “x” players based on attendance.Winner Pack to Top “x” based on attendance.  \nCome out and play Digimon anytime during our open hours.  We carry Digimon packs and starters.  Want to Learn? Just ask one of our employees or players.  The community is fantastic!
URL:https://moderntabletoprva.com/event/digimon-91/
LOCATION:Modern Table Top gaming\, 15901 US Hwy 1\, Colonial Heights\, VA\, United States
GEO:37.305458;-77.40894
X-APPLE-STRUCTURED-LOCATION;VALUE=URI;X-ADDRESS=Modern Table Top gaming 15901 US Hwy 1 Colonial Heights VA United States;X-APPLE-RADIUS=500;X-TITLE=15901 US Hwy 1:geo:-77.40894,37.305458
END:VEVENT
BEGIN:VEVENT
DTSTART;TZID=America/New_York:20260602T190000
DTEND;TZID=America/New_York:20260602T213000
DTSTAMP:20260424T122229
CREATED:20260421T031002Z
LAST-MODIFIED:20260424T000038Z
UID:10005767-1780426800-1780435800@moderntabletoprva.com
SUMMARY:Gundam TCG
DESCRIPTION:Entry: $6 Store Credit to Top Finishers Promo Pack on Entry Winner pack to undefeated
URL:https://moderntabletoprva.com/event/gundam-tcg-44/
LOCATION:Modern Table Top gaming\, 15901 US Hwy 1\, Colonial Heights\, VA\, United States
GEO:37.305458;-77.40894
X-APPLE-STRUCTURED-LOCATION;VALUE=URI;X-ADDRESS=Modern Table Top gaming 15901 US Hwy 1 Colonial Heights VA United States;X-APPLE-RADIUS=500;X-TITLE=15901 US Hwy 1:geo:-77.40894,37.305458
END:VEVENT
BEGIN:VEVENT
DTSTART;TZID=America/New_York:20260603T120000
DTEND;TZID=America/New_York:20260603T220000
DTSTAMP:20260424T122229
CREATED:20260421T031012Z
LAST-MODIFIED:20260424T000038Z
UID:10005771-1780488000-1780524000@moderntabletoprva.com
SUMMARY:MTG Commander
DESCRIPTION:Entry Fee: FreeOpen Play Prize Support: \nJoin our Event via the companion app to be eligible for a Promo Pack *Promos are available while supplies last
URL:https://moderntabletoprva.com/event/mtg-commander-265/
LOCATION:Modern Table Top gaming\, 15901 US Hwy 1\, Colonial Heights\, VA\, United States
GEO:37.305458;-77.40894
X-APPLE-STRUCTURED-LOCATION;VALUE=URI;X-ADDRESS=Modern Table Top gaming 15901 US Hwy 1 Colonial Heights VA United States;X-APPLE-RADIUS=500;X-TITLE=15901 US Hwy 1:geo:-77.40894,37.305458
END:VEVENT
BEGIN:VEVENT
DTSTART;TZID=America/New_York:20260603T183000
DTEND;TZID=America/New_York:20260603T213000
DTSTAMP:20260424T122229
CREATED:20260421T031014Z
LAST-MODIFIED:20260424T000038Z
UID:10005772-1780511400-1780522200@moderntabletoprva.com
SUMMARY:D&D
DESCRIPTION:Entry Fee: $5Parties are usually already established. Contact Party and Dungeon Master via our Discord to determine availability  
URL:https://moderntabletoprva.com/event/dd-451/
LOCATION:Modern Table Top gaming\, 15901 US Hwy 1\, Colonial Heights\, VA\, United States
GEO:37.305458;-77.40894
X-APPLE-STRUCTURED-LOCATION;VALUE=URI;X-ADDRESS=Modern Table Top gaming 15901 US Hwy 1 Colonial Heights VA United States;X-APPLE-RADIUS=500;X-TITLE=15901 US Hwy 1:geo:-77.40894,37.305458
END:VEVENT
BEGIN:VEVENT
DTSTART;TZID=America/New_York:20260603T183000
DTEND;TZID=America/New_York:20260603T220000
DTSTAMP:20260424T122229
CREATED:20260421T031010Z
LAST-MODIFIED:20260424T000039Z
UID:10005770-1780511400-1780524000@moderntabletoprva.com
SUMMARY:MTG Canadian Highlander
DESCRIPTION:$5 Entry. Proxy friendly.
URL:https://moderntabletoprva.com/event/mtg-canadian-highlander-90/
LOCATION:Modern Table Top gaming\, 15901 US Hwy 1\, Colonial Heights\, VA\, United States
GEO:37.305458;-77.40894
X-APPLE-STRUCTURED-LOCATION;VALUE=URI;X-ADDRESS=Modern Table Top gaming 15901 US Hwy 1 Colonial Heights VA United States;X-APPLE-RADIUS=500;X-TITLE=15901 US Hwy 1:geo:-77.40894,37.305458
END:VEVENT
BEGIN:VEVENT
DTSTART;TZID=America/New_York:20260603T190000
DTEND;TZID=America/New_York:20260603T220000
DTSTAMP:20260424T122229
CREATED:20260421T031015Z
LAST-MODIFIED:20260424T000038Z
UID:10005773-1780513200-1780524000@moderntabletoprva.com
SUMMARY:One Piece
DESCRIPTION:Entry – $6Store Credit to Top Performers
URL:https://moderntabletoprva.com/event/one-piece-89/
LOCATION:Modern Table Top gaming\, 15901 US Hwy 1\, Colonial Heights\, VA\, United States
GEO:37.305458;-77.40894
X-APPLE-STRUCTURED-LOCATION;VALUE=URI;X-ADDRESS=Modern Table Top gaming 15901 US Hwy 1 Colonial Heights VA United States;X-APPLE-RADIUS=500;X-TITLE=15901 US Hwy 1:geo:-77.40894,37.305458
END:VEVENT
BEGIN:VEVENT
DTSTART;TZID=America/New_York:20260604T120000
DTEND;TZID=America/New_York:20260604T220000
DTSTAMP:20260424T122229
CREATED:20260421T031018Z
LAST-MODIFIED:20260424T000040Z
UID:10005776-1780574400-1780610400@moderntabletoprva.com
SUMMARY:MTG Commander
DESCRIPTION:Entry Fee: FreeOpen Play Prize Support: \nJoin our Event via the companion app to be eligible for a Promo Pack *Promos are available while supplies last
URL:https://moderntabletoprva.com/event/mtg-commander-266/
LOCATION:Modern Table Top gaming\, 15901 US Hwy 1\, Colonial Heights\, VA\, United States
GEO:37.305458;-77.40894
X-APPLE-STRUCTURED-LOCATION;VALUE=URI;X-ADDRESS=Modern Table Top gaming 15901 US Hwy 1 Colonial Heights VA United States;X-APPLE-RADIUS=500;X-TITLE=15901 US Hwy 1:geo:-77.40894,37.305458
END:VEVENT
BEGIN:VEVENT
DTSTART;TZID=America/New_York:20260604T183000
DTEND;TZID=America/New_York:20260604T213000
DTSTAMP:20260424T122229
CREATED:20260421T031016Z
LAST-MODIFIED:20260424T000039Z
UID:10005774-1780597800-1780608600@moderntabletoprva.com
SUMMARY:D&D
DESCRIPTION:Entry Fee: $5Parties are usually already establishedContact Party and Dungeon Master via our Discord to determine availability
URL:https://moderntabletoprva.com/event/dd-452/
LOCATION:Modern Table Top gaming\, 15901 US Hwy 1\, Colonial Heights\, VA\, United States
GEO:37.305458;-77.40894
X-APPLE-STRUCTURED-LOCATION;VALUE=URI;X-ADDRESS=Modern Table Top gaming 15901 US Hwy 1 Colonial Heights VA United States;X-APPLE-RADIUS=500;X-TITLE=15901 US Hwy 1:geo:-77.40894,37.305458
END:VEVENT
BEGIN:VEVENT
DTSTART;TZID=America/New_York:20260604T183000
DTEND;TZID=America/New_York:20260604T213000
DTSTAMP:20260424T122229
CREATED:20260421T031017Z
LAST-MODIFIED:20260424T000039Z
UID:10005775-1780597800-1780608600@moderntabletoprva.com
SUMMARY:Union Arena
DESCRIPTION:Entry – $6 Format – Constructed 2 Booster Packs on EntryUndefeated gets an extra Booster Pack
URL:https://moderntabletoprva.com/event/union-arena-77/
LOCATION:Modern Table Top gaming\, 15901 US Hwy 1\, Colonial Heights\, VA\, United States
GEO:37.305458;-77.40894
X-APPLE-STRUCTURED-LOCATION;VALUE=URI;X-ADDRESS=Modern Table Top gaming 15901 US Hwy 1 Colonial Heights VA United States;X-APPLE-RADIUS=500;X-TITLE=15901 US Hwy 1:geo:-77.40894,37.305458
END:VEVENT
BEGIN:VEVENT
DTSTART;TZID=America/New_York:20260605T120000
DTEND;TZID=America/New_York:20260605T213000
DTSTAMP:20260424T122229
CREATED:20260421T031021Z
LAST-MODIFIED:20260424T000041Z
UID:10005778-1780660800-1780695000@moderntabletoprva.com
SUMMARY:FNM Commander
DESCRIPTION:Entry Fee: FreeOpen Play Prize Support: \nJoin our Event via the companion app to be eligible for a Promo Pack *Promos are available while supplies last
URL:https://moderntabletoprva.com/event/fnm-commander-89/
LOCATION:Modern Table Top gaming\, 15901 US Hwy 1\, Colonial Heights\, VA\, United States
GEO:37.305458;-77.40894
X-APPLE-STRUCTURED-LOCATION;VALUE=URI;X-ADDRESS=Modern Table Top gaming 15901 US Hwy 1 Colonial Heights VA United States;X-APPLE-RADIUS=500;X-TITLE=15901 US Hwy 1:geo:-77.40894,37.305458
END:VEVENT
BEGIN:VEVENT
DTSTART;TZID=America/New_York:20260605T183000
DTEND;TZID=America/New_York:20260605T213000
DTSTAMP:20260424T122229
CREATED:20260421T031020Z
LAST-MODIFIED:20260424T000040Z
UID:10005777-1780684200-1780695000@moderntabletoprva.com
SUMMARY:D&D
DESCRIPTION:Entry Fee: $5Parties are usually already establishedContact Party and Dungeon Master via our Discord to determine availability
URL:https://moderntabletoprva.com/event/dd-453/
LOCATION:Modern Table Top gaming\, 15901 US Hwy 1\, Colonial Heights\, VA\, United States
GEO:37.305458;-77.40894
X-APPLE-STRUCTURED-LOCATION;VALUE=URI;X-ADDRESS=Modern Table Top gaming 15901 US Hwy 1 Colonial Heights VA United States;X-APPLE-RADIUS=500;X-TITLE=15901 US Hwy 1:geo:-77.40894,37.305458
END:VEVENT
END:VCALENDAR