BEGIN:VCALENDAR
VERSION:2.0
PRODID:-//Modern Table Top Gaming - ECPv6.15.20//NONSGML v1.0//EN
CALSCALE:GREGORIAN
METHOD:PUBLISH
X-WR-CALNAME:Modern Table Top Gaming
X-ORIGINAL-URL:https://moderntabletoprva.com
X-WR-CALDESC:Events for Modern Table Top Gaming
REFRESH-INTERVAL;VALUE=DURATION:PT1H
X-Robots-Tag:noindex
X-PUBLISHED-TTL:PT1H
BEGIN:VTIMEZONE
TZID:America/New_York
BEGIN:DAYLIGHT
TZOFFSETFROM:-0500
TZOFFSETTO:-0400
TZNAME:EDT
DTSTART:20250309T070000
END:DAYLIGHT
BEGIN:STANDARD
TZOFFSETFROM:-0400
TZOFFSETTO:-0500
TZNAME:EST
DTSTART:20251102T060000
END:STANDARD
BEGIN:DAYLIGHT
TZOFFSETFROM:-0500
TZOFFSETTO:-0400
TZNAME:EDT
DTSTART:20260308T070000
END:DAYLIGHT
BEGIN:STANDARD
TZOFFSETFROM:-0400
TZOFFSETTO:-0500
TZNAME:EST
DTSTART:20261101T060000
END:STANDARD
BEGIN:DAYLIGHT
TZOFFSETFROM:-0500
TZOFFSETTO:-0400
TZNAME:EDT
DTSTART:20270314T070000
END:DAYLIGHT
BEGIN:STANDARD
TZOFFSETFROM:-0400
TZOFFSETTO:-0500
TZNAME:EST
DTSTART:20271107T060000
END:STANDARD
END:VTIMEZONE
BEGIN:VEVENT
DTSTART;TZID=America/New_York:20260326T183000
DTEND;TZID=America/New_York:20260326T213000
DTSTAMP:20260425T085823
CREATED:20260125T235758Z
LAST-MODIFIED:20260318T235947Z
UID:10005519-1774549800-1774560600@moderntabletoprva.com
SUMMARY:Union Arena
DESCRIPTION:Entry – $6 Format – Constructed 2 Booster Packs on EntryUndefeated gets an extra Booster Pack
URL:https://moderntabletoprva.com/event/union-arena-67/
LOCATION:Modern Table Top gaming\, 15901 US Hwy 1\, Colonial Heights\, VA\, United States
GEO:37.305458;-77.40894
X-APPLE-STRUCTURED-LOCATION;VALUE=URI;X-ADDRESS=Modern Table Top gaming 15901 US Hwy 1 Colonial Heights VA United States;X-APPLE-RADIUS=500;X-TITLE=15901 US Hwy 1:geo:-77.40894,37.305458
END:VEVENT
BEGIN:VEVENT
DTSTART;TZID=America/New_York:20260326T183000
DTEND;TZID=America/New_York:20260326T213000
DTSTAMP:20260425T085823
CREATED:20260125T235757Z
LAST-MODIFIED:20260318T235947Z
UID:10005518-1774549800-1774560600@moderntabletoprva.com
SUMMARY:D&D
DESCRIPTION:Entry Fee: $5Parties are usually already establishedContact Party and Dungeon Master via our Discord to determine availability
URL:https://moderntabletoprva.com/event/dd-402/
LOCATION:Modern Table Top gaming\, 15901 US Hwy 1\, Colonial Heights\, VA\, United States
GEO:37.305458;-77.40894
X-APPLE-STRUCTURED-LOCATION;VALUE=URI;X-ADDRESS=Modern Table Top gaming 15901 US Hwy 1 Colonial Heights VA United States;X-APPLE-RADIUS=500;X-TITLE=15901 US Hwy 1:geo:-77.40894,37.305458
END:VEVENT
BEGIN:VEVENT
DTSTART;TZID=America/New_York:20260326T120000
DTEND;TZID=America/New_York:20260326T220000
DTSTAMP:20260425T085823
CREATED:20260125T235758Z
LAST-MODIFIED:20260318T235947Z
UID:10005520-1774526400-1774562400@moderntabletoprva.com
SUMMARY:MTG Commander
DESCRIPTION:Entry Fee: FreeOpen Play Prize Support: \nJoin our Event via the companion app to be eligible for a Promo Pack *Promos are available while supplies last
URL:https://moderntabletoprva.com/event/mtg-commander-233/
LOCATION:Modern Table Top gaming\, 15901 US Hwy 1\, Colonial Heights\, VA\, United States
GEO:37.305458;-77.40894
X-APPLE-STRUCTURED-LOCATION;VALUE=URI;X-ADDRESS=Modern Table Top gaming 15901 US Hwy 1 Colonial Heights VA United States;X-APPLE-RADIUS=500;X-TITLE=15901 US Hwy 1:geo:-77.40894,37.305458
END:VEVENT
BEGIN:VEVENT
DTSTART;TZID=America/New_York:20260325T190000
DTEND;TZID=America/New_York:20260325T220000
DTSTAMP:20260425T085823
CREATED:20260124T235726Z
LAST-MODIFIED:20260318T235946Z
UID:10005517-1774465200-1774476000@moderntabletoprva.com
SUMMARY:One Piece
DESCRIPTION:Entry – $6Store Credit to Top Performers
URL:https://moderntabletoprva.com/event/one-piece-80/
LOCATION:Modern Table Top gaming\, 15901 US Hwy 1\, Colonial Heights\, VA\, United States
GEO:37.305458;-77.40894
X-APPLE-STRUCTURED-LOCATION;VALUE=URI;X-ADDRESS=Modern Table Top gaming 15901 US Hwy 1 Colonial Heights VA United States;X-APPLE-RADIUS=500;X-TITLE=15901 US Hwy 1:geo:-77.40894,37.305458
END:VEVENT
BEGIN:VEVENT
DTSTART;TZID=America/New_York:20260325T183000
DTEND;TZID=America/New_York:20260325T220000
DTSTAMP:20260425T085823
CREATED:20260124T235726Z
LAST-MODIFIED:20260318T235947Z
UID:10005516-1774463400-1774476000@moderntabletoprva.com
SUMMARY:MTG Canadian Highlander
DESCRIPTION:$5 Entry. Proxy friendly.
URL:https://moderntabletoprva.com/event/mtg-canadian-highlander-80/
LOCATION:Modern Table Top gaming\, 15901 US Hwy 1\, Colonial Heights\, VA\, United States
GEO:37.305458;-77.40894
X-APPLE-STRUCTURED-LOCATION;VALUE=URI;X-ADDRESS=Modern Table Top gaming 15901 US Hwy 1 Colonial Heights VA United States;X-APPLE-RADIUS=500;X-TITLE=15901 US Hwy 1:geo:-77.40894,37.305458
END:VEVENT
BEGIN:VEVENT
DTSTART;TZID=America/New_York:20260325T183000
DTEND;TZID=America/New_York:20260325T213000
DTSTAMP:20260425T085823
CREATED:20260124T235725Z
LAST-MODIFIED:20260318T235946Z
UID:10005514-1774463400-1774474200@moderntabletoprva.com
SUMMARY:D&D
DESCRIPTION:Entry Fee: $5Parties are usually already established. Contact Party and Dungeon Master via our Discord to determine availability  
URL:https://moderntabletoprva.com/event/dd-401/
LOCATION:Modern Table Top gaming\, 15901 US Hwy 1\, Colonial Heights\, VA\, United States
GEO:37.305458;-77.40894
X-APPLE-STRUCTURED-LOCATION;VALUE=URI;X-ADDRESS=Modern Table Top gaming 15901 US Hwy 1 Colonial Heights VA United States;X-APPLE-RADIUS=500;X-TITLE=15901 US Hwy 1:geo:-77.40894,37.305458
END:VEVENT
BEGIN:VEVENT
DTSTART;TZID=America/New_York:20260325T120000
DTEND;TZID=America/New_York:20260325T220000
DTSTAMP:20260425T085823
CREATED:20260124T235726Z
LAST-MODIFIED:20260318T235946Z
UID:10005515-1774440000-1774476000@moderntabletoprva.com
SUMMARY:MTG Commander
DESCRIPTION:Entry Fee: FreeOpen Play Prize Support: \nJoin our Event via the companion app to be eligible for a Promo Pack *Promos are available while supplies last
URL:https://moderntabletoprva.com/event/mtg-commander-232/
LOCATION:Modern Table Top gaming\, 15901 US Hwy 1\, Colonial Heights\, VA\, United States
GEO:37.305458;-77.40894
X-APPLE-STRUCTURED-LOCATION;VALUE=URI;X-ADDRESS=Modern Table Top gaming 15901 US Hwy 1 Colonial Heights VA United States;X-APPLE-RADIUS=500;X-TITLE=15901 US Hwy 1:geo:-77.40894,37.305458
END:VEVENT
BEGIN:VEVENT
DTSTART;TZID=America/New_York:20260324T190000
DTEND;TZID=America/New_York:20260324T213000
DTSTAMP:20260425T085823
CREATED:20260123T235736Z
LAST-MODIFIED:20260318T235945Z
UID:10005511-1774378800-1774387800@moderntabletoprva.com
SUMMARY:Gundam TCG
DESCRIPTION:Entry: $6 Store Credit to Top Finishers Promo Pack on Entry Winner pack to undefeated
URL:https://moderntabletoprva.com/event/gundam-tcg-34/
LOCATION:Modern Table Top gaming\, 15901 US Hwy 1\, Colonial Heights\, VA\, United States
GEO:37.305458;-77.40894
X-APPLE-STRUCTURED-LOCATION;VALUE=URI;X-ADDRESS=Modern Table Top gaming 15901 US Hwy 1 Colonial Heights VA United States;X-APPLE-RADIUS=500;X-TITLE=15901 US Hwy 1:geo:-77.40894,37.305458
END:VEVENT
BEGIN:VEVENT
DTSTART;TZID=America/New_York:20260324T183000
DTEND;TZID=America/New_York:20260324T220000
DTSTAMP:20260425T085823
CREATED:20260123T235737Z
LAST-MODIFIED:20260318T235946Z
UID:10005513-1774377000-1774389600@moderntabletoprva.com
SUMMARY:Digimon
DESCRIPTION:ENTRY: $6.00 (Promo Pack on entry) \nROUNDS: 3 Rounds \nPRIZE SUPPORT: \nStore Credit paid out to Top “x” players based on attendance.Winner Pack to Top “x” based on attendance.  \nCome out and play Digimon anytime during our open hours.  We carry Digimon packs and starters.  Want to Learn? Just ask one of our employees or players.  The community is fantastic!
URL:https://moderntabletoprva.com/event/digimon-81/
LOCATION:Modern Table Top gaming\, 15901 US Hwy 1\, Colonial Heights\, VA\, United States
GEO:37.305458;-77.40894
X-APPLE-STRUCTURED-LOCATION;VALUE=URI;X-ADDRESS=Modern Table Top gaming 15901 US Hwy 1 Colonial Heights VA United States;X-APPLE-RADIUS=500;X-TITLE=15901 US Hwy 1:geo:-77.40894,37.305458
END:VEVENT
BEGIN:VEVENT
DTSTART;TZID=America/New_York:20260324T183000
DTEND;TZID=America/New_York:20260324T213000
DTSTAMP:20260425T085823
CREATED:20260123T235736Z
LAST-MODIFIED:20260318T235945Z
UID:10005512-1774377000-1774387800@moderntabletoprva.com
SUMMARY:D&D
DESCRIPTION:Entry Fee: $5Parties are usually already establishedContact Party and Dungeon Master via our Discord to determine availability
URL:https://moderntabletoprva.com/event/dd-400/
LOCATION:Modern Table Top gaming\, 15901 US Hwy 1\, Colonial Heights\, VA\, United States
GEO:37.305458;-77.40894
X-APPLE-STRUCTURED-LOCATION;VALUE=URI;X-ADDRESS=Modern Table Top gaming 15901 US Hwy 1 Colonial Heights VA United States;X-APPLE-RADIUS=500;X-TITLE=15901 US Hwy 1:geo:-77.40894,37.305458
END:VEVENT
END:VCALENDAR