BEGIN:VCALENDAR
VERSION:2.0
PRODID:-//Modern Table Top Gaming - ECPv6.15.20//NONSGML v1.0//EN
CALSCALE:GREGORIAN
METHOD:PUBLISH
X-ORIGINAL-URL:https://moderntabletoprva.com
X-WR-CALDESC:Events for Modern Table Top Gaming
REFRESH-INTERVAL;VALUE=DURATION:PT1H
X-Robots-Tag:noindex
X-PUBLISHED-TTL:PT1H
BEGIN:VTIMEZONE
TZID:America/New_York
BEGIN:DAYLIGHT
TZOFFSETFROM:-0500
TZOFFSETTO:-0400
TZNAME:EDT
DTSTART:20250309T070000
END:DAYLIGHT
BEGIN:STANDARD
TZOFFSETFROM:-0400
TZOFFSETTO:-0500
TZNAME:EST
DTSTART:20251102T060000
END:STANDARD
BEGIN:DAYLIGHT
TZOFFSETFROM:-0500
TZOFFSETTO:-0400
TZNAME:EDT
DTSTART:20260308T070000
END:DAYLIGHT
BEGIN:STANDARD
TZOFFSETFROM:-0400
TZOFFSETTO:-0500
TZNAME:EST
DTSTART:20261101T060000
END:STANDARD
BEGIN:DAYLIGHT
TZOFFSETFROM:-0500
TZOFFSETTO:-0400
TZNAME:EDT
DTSTART:20270314T070000
END:DAYLIGHT
BEGIN:STANDARD
TZOFFSETFROM:-0400
TZOFFSETTO:-0500
TZNAME:EST
DTSTART:20271107T060000
END:STANDARD
END:VTIMEZONE
BEGIN:VEVENT
DTSTART;TZID=America/New_York:20260618T120000
DTEND;TZID=America/New_York:20260618T220000
DTSTAMP:20260425T072639
CREATED:20260421T031054Z
LAST-MODIFIED:20260425T000039Z
UID:10005814-1781784000-1781820000@moderntabletoprva.com
SUMMARY:MTG Commander
DESCRIPTION:Entry Fee: FreeOpen Play Prize Support: \nJoin our Event via the companion app to be eligible for a Promo Pack *Promos are available while supplies last
URL:https://moderntabletoprva.com/event/mtg-commander-272/
LOCATION:Modern Table Top gaming\, 15901 US Hwy 1\, Colonial Heights\, VA\, United States
GEO:37.305458;-77.40894
X-APPLE-STRUCTURED-LOCATION;VALUE=URI;X-ADDRESS=Modern Table Top gaming 15901 US Hwy 1 Colonial Heights VA United States;X-APPLE-RADIUS=500;X-TITLE=15901 US Hwy 1:geo:-77.40894,37.305458
END:VEVENT
BEGIN:VEVENT
DTSTART;TZID=America/New_York:20260618T183000
DTEND;TZID=America/New_York:20260618T213000
DTSTAMP:20260425T072639
CREATED:20260421T031051Z
LAST-MODIFIED:20260425T000040Z
UID:10005813-1781807400-1781818200@moderntabletoprva.com
SUMMARY:D&D
DESCRIPTION:Entry Fee: $5Parties are usually already establishedContact Party and Dungeon Master via our Discord to determine availability
URL:https://moderntabletoprva.com/event/dd-462/
LOCATION:Modern Table Top gaming\, 15901 US Hwy 1\, Colonial Heights\, VA\, United States
GEO:37.305458;-77.40894
X-APPLE-STRUCTURED-LOCATION;VALUE=URI;X-ADDRESS=Modern Table Top gaming 15901 US Hwy 1 Colonial Heights VA United States;X-APPLE-RADIUS=500;X-TITLE=15901 US Hwy 1:geo:-77.40894,37.305458
END:VEVENT
BEGIN:VEVENT
DTSTART;TZID=America/New_York:20260618T183000
DTEND;TZID=America/New_York:20260618T213000
DTSTAMP:20260425T072639
CREATED:20260421T031055Z
LAST-MODIFIED:20260425T000039Z
UID:10005815-1781807400-1781818200@moderntabletoprva.com
SUMMARY:Union Arena
DESCRIPTION:Entry – $6 Format – Constructed 2 Booster Packs on EntryUndefeated gets an extra Booster Pack
URL:https://moderntabletoprva.com/event/union-arena-79/
LOCATION:Modern Table Top gaming\, 15901 US Hwy 1\, Colonial Heights\, VA\, United States
GEO:37.305458;-77.40894
X-APPLE-STRUCTURED-LOCATION;VALUE=URI;X-ADDRESS=Modern Table Top gaming 15901 US Hwy 1 Colonial Heights VA United States;X-APPLE-RADIUS=500;X-TITLE=15901 US Hwy 1:geo:-77.40894,37.305458
END:VEVENT
BEGIN:VEVENT
DTSTART;TZID=America/New_York:20260619T120000
DTEND;TZID=America/New_York:20260619T213000
DTSTAMP:20260425T072639
CREATED:20260421T031056Z
LAST-MODIFIED:20260425T000040Z
UID:10005816-1781870400-1781904600@moderntabletoprva.com
SUMMARY:FNM Commander
DESCRIPTION:Entry Fee: FreeOpen Play Prize Support: \nJoin our Event via the companion app to be eligible for a Promo Pack *Promos are available while supplies last
URL:https://moderntabletoprva.com/event/fnm-commander-91/
LOCATION:Modern Table Top gaming\, 15901 US Hwy 1\, Colonial Heights\, VA\, United States
GEO:37.305458;-77.40894
X-APPLE-STRUCTURED-LOCATION;VALUE=URI;X-ADDRESS=Modern Table Top gaming 15901 US Hwy 1 Colonial Heights VA United States;X-APPLE-RADIUS=500;X-TITLE=15901 US Hwy 1:geo:-77.40894,37.305458
END:VEVENT
BEGIN:VEVENT
DTSTART;TZID=America/New_York:20260619T183000
DTEND;TZID=America/New_York:20260619T213000
DTSTAMP:20260425T072639
CREATED:20260421T031057Z
LAST-MODIFIED:20260425T000040Z
UID:10005818-1781893800-1781904600@moderntabletoprva.com
SUMMARY:D&D
DESCRIPTION:Entry Fee: $5Parties are usually already establishedContact Party and Dungeon Master via our Discord to determine availability
URL:https://moderntabletoprva.com/event/dd-463/
LOCATION:Modern Table Top gaming\, 15901 US Hwy 1\, Colonial Heights\, VA\, United States
GEO:37.305458;-77.40894
X-APPLE-STRUCTURED-LOCATION;VALUE=URI;X-ADDRESS=Modern Table Top gaming 15901 US Hwy 1 Colonial Heights VA United States;X-APPLE-RADIUS=500;X-TITLE=15901 US Hwy 1:geo:-77.40894,37.305458
END:VEVENT
BEGIN:VEVENT
DTSTART;TZID=America/New_York:20260619T183000
DTEND;TZID=America/New_York:20260619T223000
DTSTAMP:20260425T072639
CREATED:20260421T031056Z
LAST-MODIFIED:20260425T000041Z
UID:10005817-1781893800-1781908200@moderntabletoprva.com
SUMMARY:Grand Archive
DESCRIPTION:Constructed Event (3 Rounds)Entry: $5*Booster Pack on Entry \nEvent Pack Payout \n3-0 = 3g / 2s \n2-0-1 = 2g / 2s \n2-1 = 1g / 2s \n1-2 = 2s \n0-3 = 1s
URL:https://moderntabletoprva.com/event/grand-archive-93/
LOCATION:Modern Table Top gaming\, 15901 US Hwy 1\, Colonial Heights\, VA\, United States
GEO:37.305458;-77.40894
X-APPLE-STRUCTURED-LOCATION;VALUE=URI;X-ADDRESS=Modern Table Top gaming 15901 US Hwy 1 Colonial Heights VA United States;X-APPLE-RADIUS=500;X-TITLE=15901 US Hwy 1:geo:-77.40894,37.305458
END:VEVENT
BEGIN:VEVENT
DTSTART;TZID=America/New_York:20260620T110000
DTEND;TZID=America/New_York:20260620T140000
DTSTAMP:20260425T072639
CREATED:20260421T031101Z
LAST-MODIFIED:20260425T000042Z
UID:10005821-1781953200-1781964000@moderntabletoprva.com
SUMMARY:Pokémon League
DESCRIPTION:Entry: Free Pokémon League is a fun and accessible way for Pokémon fans to get together and have some fun! League events are open to all Pokémon TCG and video game players regardless of experience level or skill. Using your own cards and Pokémon video games\, you can play\, trade\, and even earn cool prizes! The best part is that you can do all this with other Pokémon players who love collecting and playing just as much as you do.Pokémon League events area great way to learn game basics and get the feel for Pokémon competitive play before beginning to compete in Pokémon tournaments.
URL:https://moderntabletoprva.com/event/pokemon-league-86/
LOCATION:Modern Table Top gaming\, 15901 US Hwy 1\, Colonial Heights\, VA\, United States
GEO:37.305458;-77.40894
X-APPLE-STRUCTURED-LOCATION;VALUE=URI;X-ADDRESS=Modern Table Top gaming 15901 US Hwy 1 Colonial Heights VA United States;X-APPLE-RADIUS=500;X-TITLE=15901 US Hwy 1:geo:-77.40894,37.305458
END:VEVENT
BEGIN:VEVENT
DTSTART;TZID=America/New_York:20260620T140000
DTEND;TZID=America/New_York:20260620T170000
DTSTAMP:20260425T072639
CREATED:20260421T031059Z
LAST-MODIFIED:20260425T000043Z
UID:10005820-1781964000-1781974800@moderntabletoprva.com
SUMMARY:D&D
DESCRIPTION:Entry Fee: $5Parties are usually already establishedContact Party and Dungeon Master via our Discord to determine availability
URL:https://moderntabletoprva.com/event/dd-464/
LOCATION:Modern Table Top gaming\, 15901 US Hwy 1\, Colonial Heights\, VA\, United States
GEO:37.305458;-77.40894
X-APPLE-STRUCTURED-LOCATION;VALUE=URI;X-ADDRESS=Modern Table Top gaming 15901 US Hwy 1 Colonial Heights VA United States;X-APPLE-RADIUS=500;X-TITLE=15901 US Hwy 1:geo:-77.40894,37.305458
END:VEVENT
BEGIN:VEVENT
DTSTART;TZID=America/New_York:20260620T143000
DTEND;TZID=America/New_York:20260620T170000
DTSTAMP:20260425T072639
CREATED:20260421T031058Z
LAST-MODIFIED:20260425T000043Z
UID:10005819-1781965800-1781974800@moderntabletoprva.com
SUMMARY:Riftbound
DESCRIPTION:Entry: $6Booster pack on entry
URL:https://moderntabletoprva.com/event/riftbound-27/
LOCATION:Modern Table Top gaming\, 15901 US Hwy 1\, Colonial Heights\, VA\, United States
GEO:37.305458;-77.40894
X-APPLE-STRUCTURED-LOCATION;VALUE=URI;X-ADDRESS=Modern Table Top gaming 15901 US Hwy 1 Colonial Heights VA United States;X-APPLE-RADIUS=500;X-TITLE=15901 US Hwy 1:geo:-77.40894,37.305458
END:VEVENT
BEGIN:VEVENT
DTSTART;TZID=America/New_York:20260621T110000
DTEND;TZID=America/New_York:20260621T180000
DTSTAMP:20260425T072639
CREATED:20260422T234647Z
LAST-MODIFIED:20260425T000043Z
UID:10005822-1782039600-1782064800@moderntabletoprva.com
SUMMARY:MTG Commander
DESCRIPTION:EntryFee: FreeOpen Play    Prize Support:   Join our Event via the companion app to be eligible for a Promo Pack    *Promos are available while supplies last
URL:https://moderntabletoprva.com/event/mtg-commander-249/
LOCATION:Modern Table Top gaming\, 15901 US Hwy 1\, Colonial Heights\, VA\, United States
GEO:37.305458;-77.40894
X-APPLE-STRUCTURED-LOCATION;VALUE=URI;X-ADDRESS=Modern Table Top gaming 15901 US Hwy 1 Colonial Heights VA United States;X-APPLE-RADIUS=500;X-TITLE=15901 US Hwy 1:geo:-77.40894,37.305458
END:VEVENT
BEGIN:VEVENT
DTSTART;TZID=America/New_York:20260622T183000
DTEND;TZID=America/New_York:20260622T213000
DTSTAMP:20260425T072639
CREATED:20260424T000056Z
LAST-MODIFIED:20260425T000044Z
UID:10005823-1782153000-1782163800@moderntabletoprva.com
SUMMARY:Standard League
DESCRIPTION:Entry: $5 (3 Round Max) \nStandard Booster on Entry
URL:https://moderntabletoprva.com/event/standard-league-69/
LOCATION:Modern Table Top gaming\, 15901 US Hwy 1\, Colonial Heights\, VA\, United States
GEO:37.305458;-77.40894
X-APPLE-STRUCTURED-LOCATION;VALUE=URI;X-ADDRESS=Modern Table Top gaming 15901 US Hwy 1 Colonial Heights VA United States;X-APPLE-RADIUS=500;X-TITLE=15901 US Hwy 1:geo:-77.40894,37.305458
END:VEVENT
BEGIN:VEVENT
DTSTART;TZID=America/New_York:20260622T183000
DTEND;TZID=America/New_York:20260622T213000
DTSTAMP:20260425T072639
CREATED:20260424T000056Z
LAST-MODIFIED:20260425T000044Z
UID:10005824-1782153000-1782163800@moderntabletoprva.com
SUMMARY:Lorcana League
DESCRIPTION:Entry: Free Format: Constructed 3 Rounds (Bo3) \nLeague Details \n🗓 Season DatesStarts: First Monday after release of a new setEnds: Top 8 playoff the Monday before a new set releaseTime: Mondays at 6:30pm \n🏆 Top 8 Prizing1st: Booster Box (current set)2nd: ½ Box3rd–8th: ¼ Box*Additional Prizing: Weekly Giveaways and promo cards for participants \n📊 Points System1 point for participation each weekAdditional points determined by event softwareStandings updated weekly here:https://moderntabletoprva.com/leaderboards/ \nIf there’s a tie for the final Top 8 spot\, there will be a playoff before the Top 8 event. \n📦 Preorder Priority Weekly tournament players will receive preorder priority. Participation points help us determine priority access. \nIf you’ve got questions\, drop them here—otherwise\, see you week one. \n-MODERN TABLE TOP GAMING“Where every game is a story and every player is family.”
URL:https://moderntabletoprva.com/event/lorcana-league-94/
LOCATION:Modern Table Top gaming\, 15901 US Hwy 1\, Colonial Heights\, VA\, United States
GEO:37.305458;-77.40894
X-APPLE-STRUCTURED-LOCATION;VALUE=URI;X-ADDRESS=Modern Table Top gaming 15901 US Hwy 1 Colonial Heights VA United States;X-APPLE-RADIUS=500;X-TITLE=15901 US Hwy 1:geo:-77.40894,37.305458
END:VEVENT
BEGIN:VEVENT
DTSTART;TZID=America/New_York:20260623T183000
DTEND;TZID=America/New_York:20260623T213000
DTSTAMP:20260425T072640
CREATED:20260425T000044Z
LAST-MODIFIED:20260425T000044Z
UID:10005825-1782239400-1782250200@moderntabletoprva.com
SUMMARY:D&D
DESCRIPTION:Entry Fee: $5Parties are usually already establishedContact Party and Dungeon Master via our Discord to determine availability
URL:https://moderntabletoprva.com/event/dd-465/
LOCATION:Modern Table Top gaming\, 15901 US Hwy 1\, Colonial Heights\, VA\, United States
GEO:37.305458;-77.40894
X-APPLE-STRUCTURED-LOCATION;VALUE=URI;X-ADDRESS=Modern Table Top gaming 15901 US Hwy 1 Colonial Heights VA United States;X-APPLE-RADIUS=500;X-TITLE=15901 US Hwy 1:geo:-77.40894,37.305458
END:VEVENT
BEGIN:VEVENT
DTSTART;TZID=America/New_York:20260623T183000
DTEND;TZID=America/New_York:20260623T220000
DTSTAMP:20260425T072640
CREATED:20260425T000045Z
LAST-MODIFIED:20260425T000045Z
UID:10005827-1782239400-1782252000@moderntabletoprva.com
SUMMARY:Digimon
DESCRIPTION:ENTRY: $6.00 (Promo Pack on entry) \nROUNDS: 3 Rounds \nPRIZE SUPPORT: \nStore Credit paid out to Top “x” players based on attendance.Winner Pack to Top “x” based on attendance.  \nCome out and play Digimon anytime during our open hours.  We carry Digimon packs and starters.  Want to Learn? Just ask one of our employees or players.  The community is fantastic!
URL:https://moderntabletoprva.com/event/digimon-94/
LOCATION:Modern Table Top gaming\, 15901 US Hwy 1\, Colonial Heights\, VA\, United States
GEO:37.305458;-77.40894
X-APPLE-STRUCTURED-LOCATION;VALUE=URI;X-ADDRESS=Modern Table Top gaming 15901 US Hwy 1 Colonial Heights VA United States;X-APPLE-RADIUS=500;X-TITLE=15901 US Hwy 1:geo:-77.40894,37.305458
END:VEVENT
BEGIN:VEVENT
DTSTART;TZID=America/New_York:20260623T190000
DTEND;TZID=America/New_York:20260623T213000
DTSTAMP:20260425T072640
CREATED:20260425T000045Z
LAST-MODIFIED:20260425T000045Z
UID:10005826-1782241200-1782250200@moderntabletoprva.com
SUMMARY:Gundam TCG
DESCRIPTION:Entry: $6 Store Credit to Top Finishers Promo Pack on Entry Winner pack to undefeated
URL:https://moderntabletoprva.com/event/gundam-tcg-47/
LOCATION:Modern Table Top gaming\, 15901 US Hwy 1\, Colonial Heights\, VA\, United States
GEO:37.305458;-77.40894
X-APPLE-STRUCTURED-LOCATION;VALUE=URI;X-ADDRESS=Modern Table Top gaming 15901 US Hwy 1 Colonial Heights VA United States;X-APPLE-RADIUS=500;X-TITLE=15901 US Hwy 1:geo:-77.40894,37.305458
END:VEVENT
END:VCALENDAR