BEGIN:VCALENDAR
VERSION:2.0
PRODID:-//Modern Table Top Gaming - ECPv6.15.20//NONSGML v1.0//EN
CALSCALE:GREGORIAN
METHOD:PUBLISH
X-WR-CALNAME:Modern Table Top Gaming
X-ORIGINAL-URL:https://moderntabletoprva.com
X-WR-CALDESC:Events for Modern Table Top Gaming
REFRESH-INTERVAL;VALUE=DURATION:PT1H
X-Robots-Tag:noindex
X-PUBLISHED-TTL:PT1H
BEGIN:VTIMEZONE
TZID:America/New_York
BEGIN:DAYLIGHT
TZOFFSETFROM:-0500
TZOFFSETTO:-0400
TZNAME:EDT
DTSTART:20250309T070000
END:DAYLIGHT
BEGIN:STANDARD
TZOFFSETFROM:-0400
TZOFFSETTO:-0500
TZNAME:EST
DTSTART:20251102T060000
END:STANDARD
BEGIN:DAYLIGHT
TZOFFSETFROM:-0500
TZOFFSETTO:-0400
TZNAME:EDT
DTSTART:20260308T070000
END:DAYLIGHT
BEGIN:STANDARD
TZOFFSETFROM:-0400
TZOFFSETTO:-0500
TZNAME:EST
DTSTART:20261101T060000
END:STANDARD
BEGIN:DAYLIGHT
TZOFFSETFROM:-0500
TZOFFSETTO:-0400
TZNAME:EDT
DTSTART:20270314T070000
END:DAYLIGHT
BEGIN:STANDARD
TZOFFSETFROM:-0400
TZOFFSETTO:-0500
TZNAME:EST
DTSTART:20271107T060000
END:STANDARD
END:VTIMEZONE
BEGIN:VEVENT
DTSTART;TZID=America/New_York:20260422T183000
DTEND;TZID=America/New_York:20260422T213000
DTSTAMP:20260424T101913
CREATED:20260222T234216Z
LAST-MODIFIED:20260422T234648Z
UID:10005617-1776882600-1776893400@moderntabletoprva.com
SUMMARY:D&D
DESCRIPTION:Entry Fee: $5Parties are usually already established. Contact Party and Dungeon Master via our Discord to determine availability  
URL:https://moderntabletoprva.com/event/dd-421/
LOCATION:Modern Table Top gaming\, 15901 US Hwy 1\, Colonial Heights\, VA\, United States
GEO:37.305458;-77.40894
X-APPLE-STRUCTURED-LOCATION;VALUE=URI;X-ADDRESS=Modern Table Top gaming 15901 US Hwy 1 Colonial Heights VA United States;X-APPLE-RADIUS=500;X-TITLE=15901 US Hwy 1:geo:-77.40894,37.305458
END:VEVENT
BEGIN:VEVENT
DTSTART;TZID=America/New_York:20260422T183000
DTEND;TZID=America/New_York:20260422T220000
DTSTAMP:20260424T101913
CREATED:20260222T234215Z
LAST-MODIFIED:20260422T234648Z
UID:10005616-1776882600-1776895200@moderntabletoprva.com
SUMMARY:MTG Canadian Highlander
DESCRIPTION:$5 Entry. Proxy friendly.
URL:https://moderntabletoprva.com/event/mtg-canadian-highlander-84/
LOCATION:Modern Table Top gaming\, 15901 US Hwy 1\, Colonial Heights\, VA\, United States
GEO:37.305458;-77.40894
X-APPLE-STRUCTURED-LOCATION;VALUE=URI;X-ADDRESS=Modern Table Top gaming 15901 US Hwy 1 Colonial Heights VA United States;X-APPLE-RADIUS=500;X-TITLE=15901 US Hwy 1:geo:-77.40894,37.305458
END:VEVENT
BEGIN:VEVENT
DTSTART;TZID=America/New_York:20260422T190000
DTEND;TZID=America/New_York:20260422T220000
DTSTAMP:20260424T101913
CREATED:20260222T234212Z
LAST-MODIFIED:20260422T234648Z
UID:10005615-1776884400-1776895200@moderntabletoprva.com
SUMMARY:One Piece
DESCRIPTION:Entry – $6Store Credit to Top Performers
URL:https://moderntabletoprva.com/event/one-piece-83/
LOCATION:Modern Table Top gaming\, 15901 US Hwy 1\, Colonial Heights\, VA\, United States
GEO:37.305458;-77.40894
X-APPLE-STRUCTURED-LOCATION;VALUE=URI;X-ADDRESS=Modern Table Top gaming 15901 US Hwy 1 Colonial Heights VA United States;X-APPLE-RADIUS=500;X-TITLE=15901 US Hwy 1:geo:-77.40894,37.305458
END:VEVENT
BEGIN:VEVENT
DTSTART;TZID=America/New_York:20260423T120000
DTEND;TZID=America/New_York:20260423T220000
DTSTAMP:20260424T101913
CREATED:20260222T234218Z
LAST-MODIFIED:20260423T235945Z
UID:10005621-1776945600-1776981600@moderntabletoprva.com
SUMMARY:MTG Commander
DESCRIPTION:Entry Fee: FreeOpen Play Prize Support: \nJoin our Event via the companion app to be eligible for a Promo Pack *Promos are available while supplies last
URL:https://moderntabletoprva.com/event/mtg-commander-245/
LOCATION:Modern Table Top gaming\, 15901 US Hwy 1\, Colonial Heights\, VA\, United States
GEO:37.305458;-77.40894
X-APPLE-STRUCTURED-LOCATION;VALUE=URI;X-ADDRESS=Modern Table Top gaming 15901 US Hwy 1 Colonial Heights VA United States;X-APPLE-RADIUS=500;X-TITLE=15901 US Hwy 1:geo:-77.40894,37.305458
END:VEVENT
BEGIN:VEVENT
DTSTART;TZID=America/New_York:20260423T183000
DTEND;TZID=America/New_York:20260423T213000
DTSTAMP:20260424T101913
CREATED:20260222T234217Z
LAST-MODIFIED:20260423T235945Z
UID:10005619-1776969000-1776979800@moderntabletoprva.com
SUMMARY:D&D
DESCRIPTION:Entry Fee: $5Parties are usually already establishedContact Party and Dungeon Master via our Discord to determine availability
URL:https://moderntabletoprva.com/event/dd-422/
LOCATION:Modern Table Top gaming\, 15901 US Hwy 1\, Colonial Heights\, VA\, United States
GEO:37.305458;-77.40894
X-APPLE-STRUCTURED-LOCATION;VALUE=URI;X-ADDRESS=Modern Table Top gaming 15901 US Hwy 1 Colonial Heights VA United States;X-APPLE-RADIUS=500;X-TITLE=15901 US Hwy 1:geo:-77.40894,37.305458
END:VEVENT
BEGIN:VEVENT
DTSTART;TZID=America/New_York:20260423T183000
DTEND;TZID=America/New_York:20260423T213000
DTSTAMP:20260424T101913
CREATED:20260222T234218Z
LAST-MODIFIED:20260423T235945Z
UID:10005620-1776969000-1776979800@moderntabletoprva.com
SUMMARY:Union Arena
DESCRIPTION:Entry – $6 Format – Constructed 2 Booster Packs on EntryUndefeated gets an extra Booster Pack
URL:https://moderntabletoprva.com/event/union-arena-71/
LOCATION:Modern Table Top gaming\, 15901 US Hwy 1\, Colonial Heights\, VA\, United States
GEO:37.305458;-77.40894
X-APPLE-STRUCTURED-LOCATION;VALUE=URI;X-ADDRESS=Modern Table Top gaming 15901 US Hwy 1 Colonial Heights VA United States;X-APPLE-RADIUS=500;X-TITLE=15901 US Hwy 1:geo:-77.40894,37.305458
END:VEVENT
BEGIN:VEVENT
DTSTART;TZID=America/New_York:20260424T120000
DTEND;TZID=America/New_York:20260424T213000
DTSTAMP:20260424T101913
CREATED:20260223T234644Z
LAST-MODIFIED:20260423T235946Z
UID:10005623-1777032000-1777066200@moderntabletoprva.com
SUMMARY:FNM Commander
DESCRIPTION:Entry Fee: FreeOpen Play Prize Support: \nJoin our Event via the companion app to be eligible for a Promo Pack *Promos are available while supplies last
URL:https://moderntabletoprva.com/event/fnm-commander-74/
LOCATION:Modern Table Top gaming\, 15901 US Hwy 1\, Colonial Heights\, VA\, United States
GEO:37.305458;-77.40894
X-APPLE-STRUCTURED-LOCATION;VALUE=URI;X-ADDRESS=Modern Table Top gaming 15901 US Hwy 1 Colonial Heights VA United States;X-APPLE-RADIUS=500;X-TITLE=15901 US Hwy 1:geo:-77.40894,37.305458
END:VEVENT
BEGIN:VEVENT
DTSTART;TZID=America/New_York:20260424T183000
DTEND;TZID=America/New_York:20260424T213000
DTSTAMP:20260424T101913
CREATED:20260223T234645Z
LAST-MODIFIED:20260423T235946Z
UID:10005624-1777055400-1777066200@moderntabletoprva.com
SUMMARY:D&D
DESCRIPTION:Entry Fee: $5Parties are usually already establishedContact Party and Dungeon Master via our Discord to determine availability
URL:https://moderntabletoprva.com/event/dd-423/
LOCATION:Modern Table Top gaming\, 15901 US Hwy 1\, Colonial Heights\, VA\, United States
GEO:37.305458;-77.40894
X-APPLE-STRUCTURED-LOCATION;VALUE=URI;X-ADDRESS=Modern Table Top gaming 15901 US Hwy 1 Colonial Heights VA United States;X-APPLE-RADIUS=500;X-TITLE=15901 US Hwy 1:geo:-77.40894,37.305458
END:VEVENT
BEGIN:VEVENT
DTSTART;TZID=America/New_York:20260424T183000
DTEND;TZID=America/New_York:20260424T223000
DTSTAMP:20260424T101913
CREATED:20260223T234644Z
LAST-MODIFIED:20260423T235946Z
UID:10005622-1777055400-1777069800@moderntabletoprva.com
SUMMARY:Grand Archive
DESCRIPTION:Constructed Event (3 Rounds)Entry: $5*Booster Pack on Entry \nEvent Pack Payout \n3-0 = 3g / 2s \n2-0-1 = 2g / 2s \n2-1 = 1g / 2s \n1-2 = 2s \n0-3 = 1s
URL:https://moderntabletoprva.com/event/grand-archive-86/
LOCATION:Modern Table Top gaming\, 15901 US Hwy 1\, Colonial Heights\, VA\, United States
GEO:37.305458;-77.40894
X-APPLE-STRUCTURED-LOCATION;VALUE=URI;X-ADDRESS=Modern Table Top gaming 15901 US Hwy 1 Colonial Heights VA United States;X-APPLE-RADIUS=500;X-TITLE=15901 US Hwy 1:geo:-77.40894,37.305458
END:VEVENT
BEGIN:VEVENT
DTSTART;TZID=America/New_York:20260425T113000
DTEND;TZID=America/New_York:20260425T180000
DTSTAMP:20260424T101913
CREATED:20260315T233301Z
LAST-MODIFIED:20260423T235946Z
UID:10005680-1777116600-1777140000@moderntabletoprva.com
SUMMARY:Riftbound: Summoner Skirmish
DESCRIPTION:Entry: $8 \nStart Time: 11:30am \nDoors Open: 11am \nFormat: 1v1 Constructed (Bo3) \nTop Cut based on number of Players Capped at 16 players \n*Prepay only to lock in your spot 
URL:https://moderntabletoprva.com/event/riftbound-summoner-skirmish-2/
LOCATION:Modern Table Top gaming\, 15901 US Hwy 1\, Colonial Heights\, VA\, United States
GEO:37.305458;-77.40894
X-APPLE-STRUCTURED-LOCATION;VALUE=URI;X-ADDRESS=Modern Table Top gaming 15901 US Hwy 1 Colonial Heights VA United States;X-APPLE-RADIUS=500;X-TITLE=15901 US Hwy 1:geo:-77.40894,37.305458
END:VEVENT
BEGIN:VEVENT
DTSTART;TZID=America/New_York:20260425T120000
DTEND;TZID=America/New_York:20260425T150000
DTSTAMP:20260424T101913
CREATED:20260225T000122Z
LAST-MODIFIED:20260423T235947Z
UID:10005627-1777118400-1777129200@moderntabletoprva.com
SUMMARY:Pokémon League
DESCRIPTION:Entry: Free \nPokémon League is a fun and accessible way for Pokémon fans to get together and have some fun! League events are open to all Pokémon TCG and video game players regardless of experience level or skill. Using your own cards and Pokémon video games\, you can play\, trade\, and even earn cool prizes! The best part is that you can do all this with other Pokémon players who love collecting and playing just as much as you do.Pokémon League events area great way to learn game basics and get the feel for Pokémon competitive play before beginning to compete in Pokémon tournaments.
URL:https://moderntabletoprva.com/event/pokemon-league-75/
LOCATION:Modern Table Top gaming\, 15901 US Hwy 1\, Colonial Heights\, VA\, United States
GEO:37.305458;-77.40894
X-APPLE-STRUCTURED-LOCATION;VALUE=URI;X-ADDRESS=Modern Table Top gaming 15901 US Hwy 1 Colonial Heights VA United States;X-APPLE-RADIUS=500;X-TITLE=15901 US Hwy 1:geo:-77.40894,37.305458
END:VEVENT
BEGIN:VEVENT
DTSTART;TZID=America/New_York:20260425T140000
DTEND;TZID=America/New_York:20260425T170000
DTSTAMP:20260424T101913
CREATED:20260225T000121Z
LAST-MODIFIED:20260423T235947Z
UID:10005626-1777125600-1777136400@moderntabletoprva.com
SUMMARY:D&D
DESCRIPTION:Entry Fee: $5Parties are usually already establishedContact Party and Dungeon Master via our Discord to determine availability
URL:https://moderntabletoprva.com/event/dd-424/
LOCATION:Modern Table Top gaming\, 15901 US Hwy 1\, Colonial Heights\, VA\, United States
GEO:37.305458;-77.40894
X-APPLE-STRUCTURED-LOCATION;VALUE=URI;X-ADDRESS=Modern Table Top gaming 15901 US Hwy 1 Colonial Heights VA United States;X-APPLE-RADIUS=500;X-TITLE=15901 US Hwy 1:geo:-77.40894,37.305458
END:VEVENT
BEGIN:VEVENT
DTSTART;TZID=America/New_York:20260426T120000
DTEND;TZID=America/New_York:20260426T170000
DTSTAMP:20260424T101913
CREATED:20260226T233241Z
LAST-MODIFIED:20260423T235948Z
UID:10005628-1777204800-1777222800@moderntabletoprva.com
SUMMARY:MTG Commander
DESCRIPTION:EntryFee: FreeOpen Play    Prize Support:   Join our Event via the companion app to be eligible for a Promo Pack    *Promos are available while supplies last
URL:https://moderntabletoprva.com/event/mtg-commander-246/
LOCATION:Modern Table Top gaming\, 15901 US Hwy 1\, Colonial Heights\, VA\, United States
GEO:37.305458;-77.40894
X-APPLE-STRUCTURED-LOCATION;VALUE=URI;X-ADDRESS=Modern Table Top gaming 15901 US Hwy 1 Colonial Heights VA United States;X-APPLE-RADIUS=500;X-TITLE=15901 US Hwy 1:geo:-77.40894,37.305458
END:VEVENT
BEGIN:VEVENT
DTSTART;TZID=America/New_York:20260426T123000
DTEND;TZID=America/New_York:20260426T143000
DTSTAMP:20260424T101913
CREATED:20260316T234941Z
LAST-MODIFIED:20260423T235947Z
UID:10005692-1777206600-1777213800@moderntabletoprva.com
SUMMARY:Gundam: Phantom Aria Release Event
DESCRIPTION:Format: Sealed (4 Packs) Entry: $25 Time: 12:30pm & 3:30pm Application Start Date: Fri. April 10\, 2026 01:00 AM Sign up using Bandai TCG+ App
URL:https://moderntabletoprva.com/event/gundam-phantom-aria-release-event/
LOCATION:Modern Table Top gaming\, 15901 US Hwy 1\, Colonial Heights\, VA\, United States
GEO:37.305458;-77.40894
X-APPLE-STRUCTURED-LOCATION;VALUE=URI;X-ADDRESS=Modern Table Top gaming 15901 US Hwy 1 Colonial Heights VA United States;X-APPLE-RADIUS=500;X-TITLE=15901 US Hwy 1:geo:-77.40894,37.305458
END:VEVENT
BEGIN:VEVENT
DTSTART;TZID=America/New_York:20260426T143000
DTEND;TZID=America/New_York:20260426T163000
DTSTAMP:20260424T101913
CREATED:20260316T234942Z
LAST-MODIFIED:20260423T235948Z
UID:10005693-1777213800-1777221000@moderntabletoprva.com
SUMMARY:Gundam: Phantom Aria Release Event
DESCRIPTION:Format: Sealed (4 Packs) Entry: $25 Time: 12:30pm & 3:30pm Application Start Date: Fri. April 10\, 2026 01:00 AM Sign up using Bandai TCG+ App
URL:https://moderntabletoprva.com/event/gundam-phantom-aria-release-event-2/
LOCATION:Modern Table Top gaming\, 15901 US Hwy 1\, Colonial Heights\, VA\, United States
GEO:37.305458;-77.40894
X-APPLE-STRUCTURED-LOCATION;VALUE=URI;X-ADDRESS=Modern Table Top gaming 15901 US Hwy 1 Colonial Heights VA United States;X-APPLE-RADIUS=500;X-TITLE=15901 US Hwy 1:geo:-77.40894,37.305458
END:VEVENT
BEGIN:VEVENT
DTSTART;TZID=America/New_York:20260427T183000
DTEND;TZID=America/New_York:20260427T213000
DTSTAMP:20260424T101913
CREATED:20260226T233242Z
LAST-MODIFIED:20260423T235948Z
UID:10005630-1777314600-1777325400@moderntabletoprva.com
SUMMARY:Lorcana League
DESCRIPTION:Entry: Free Format: Constructed 3 Rounds (Bo3) \nLeague Details \n🗓 Season DatesStarts: First Monday after release of a new setEnds: Top 8 playoff the Monday before a new set releaseTime: Mondays at 6:30pm \n🏆 Top 8 Prizing1st: Booster Box (current set)2nd: ½ Box3rd–8th: ¼ Box*Additional Prizing: Weekly Giveaways and promo cards for participants \n📊 Points System1 point for participation each weekAdditional points determined by event softwareStandings updated weekly here:https://moderntabletoprva.com/leaderboards/ \nIf there’s a tie for the final Top 8 spot\, there will be a playoff before the Top 8 event. \n📦 Preorder Priority Weekly tournament players will receive preorder priority. Participation points help us determine priority access. \nIf you’ve got questions\, drop them here—otherwise\, see you week one. \n-MODERN TABLE TOP GAMING“Where every game is a story and every player is family.”
URL:https://moderntabletoprva.com/event/lorcana-league-86/
LOCATION:Modern Table Top gaming\, 15901 US Hwy 1\, Colonial Heights\, VA\, United States
GEO:37.305458;-77.40894
X-APPLE-STRUCTURED-LOCATION;VALUE=URI;X-ADDRESS=Modern Table Top gaming 15901 US Hwy 1 Colonial Heights VA United States;X-APPLE-RADIUS=500;X-TITLE=15901 US Hwy 1:geo:-77.40894,37.305458
END:VEVENT
BEGIN:VEVENT
DTSTART;TZID=America/New_York:20260427T183000
DTEND;TZID=America/New_York:20260427T213000
DTSTAMP:20260424T101913
CREATED:20260226T233242Z
LAST-MODIFIED:20260423T235948Z
UID:10005629-1777314600-1777325400@moderntabletoprva.com
SUMMARY:Standard League
DESCRIPTION:Entry: $5 (3 Round Max) \nStandard Booster on Entry
URL:https://moderntabletoprva.com/event/standard-league-61/
LOCATION:Modern Table Top gaming\, 15901 US Hwy 1\, Colonial Heights\, VA\, United States
GEO:37.305458;-77.40894
X-APPLE-STRUCTURED-LOCATION;VALUE=URI;X-ADDRESS=Modern Table Top gaming 15901 US Hwy 1 Colonial Heights VA United States;X-APPLE-RADIUS=500;X-TITLE=15901 US Hwy 1:geo:-77.40894,37.305458
END:VEVENT
BEGIN:VEVENT
DTSTART;TZID=America/New_York:20260428T183000
DTEND;TZID=America/New_York:20260428T213000
DTSTAMP:20260424T101913
CREATED:20260227T234649Z
LAST-MODIFIED:20260423T235949Z
UID:10005631-1777401000-1777411800@moderntabletoprva.com
SUMMARY:D&D
DESCRIPTION:Entry Fee: $5Parties are usually already establishedContact Party and Dungeon Master via our Discord to determine availability
URL:https://moderntabletoprva.com/event/dd-425/
LOCATION:Modern Table Top gaming\, 15901 US Hwy 1\, Colonial Heights\, VA\, United States
GEO:37.305458;-77.40894
X-APPLE-STRUCTURED-LOCATION;VALUE=URI;X-ADDRESS=Modern Table Top gaming 15901 US Hwy 1 Colonial Heights VA United States;X-APPLE-RADIUS=500;X-TITLE=15901 US Hwy 1:geo:-77.40894,37.305458
END:VEVENT
BEGIN:VEVENT
DTSTART;TZID=America/New_York:20260428T183000
DTEND;TZID=America/New_York:20260428T220000
DTSTAMP:20260424T101913
CREATED:20260227T234649Z
LAST-MODIFIED:20260423T235949Z
UID:10005632-1777401000-1777413600@moderntabletoprva.com
SUMMARY:Digimon
DESCRIPTION:ENTRY: $6.00 (Promo Pack on entry) \nROUNDS: 3 Rounds \nPRIZE SUPPORT: \nStore Credit paid out to Top “x” players based on attendance.Winner Pack to Top “x” based on attendance.  \nCome out and play Digimon anytime during our open hours.  We carry Digimon packs and starters.  Want to Learn? Just ask one of our employees or players.  The community is fantastic!
URL:https://moderntabletoprva.com/event/digimon-86/
LOCATION:Modern Table Top gaming\, 15901 US Hwy 1\, Colonial Heights\, VA\, United States
GEO:37.305458;-77.40894
X-APPLE-STRUCTURED-LOCATION;VALUE=URI;X-ADDRESS=Modern Table Top gaming 15901 US Hwy 1 Colonial Heights VA United States;X-APPLE-RADIUS=500;X-TITLE=15901 US Hwy 1:geo:-77.40894,37.305458
END:VEVENT
BEGIN:VEVENT
DTSTART;TZID=America/New_York:20260428T190000
DTEND;TZID=America/New_York:20260428T213000
DTSTAMP:20260424T101913
CREATED:20260227T234650Z
LAST-MODIFIED:20260423T235949Z
UID:10005633-1777402800-1777411800@moderntabletoprva.com
SUMMARY:Gundam TCG
DESCRIPTION:Entry: $6 Store Credit to Top Finishers Promo Pack on Entry Winner pack to undefeated
URL:https://moderntabletoprva.com/event/gundam-tcg-39/
LOCATION:Modern Table Top gaming\, 15901 US Hwy 1\, Colonial Heights\, VA\, United States
GEO:37.305458;-77.40894
X-APPLE-STRUCTURED-LOCATION;VALUE=URI;X-ADDRESS=Modern Table Top gaming 15901 US Hwy 1 Colonial Heights VA United States;X-APPLE-RADIUS=500;X-TITLE=15901 US Hwy 1:geo:-77.40894,37.305458
END:VEVENT
BEGIN:VEVENT
DTSTART;TZID=America/New_York:20260429T120000
DTEND;TZID=America/New_York:20260429T220000
DTSTAMP:20260424T101913
CREATED:20260301T000124Z
LAST-MODIFIED:20260423T235950Z
UID:10005635-1777464000-1777500000@moderntabletoprva.com
SUMMARY:MTG Commander
DESCRIPTION:Entry Fee: FreeOpen Play Prize Support: \nJoin our Event via the companion app to be eligible for a Promo Pack *Promos are available while supplies last
URL:https://moderntabletoprva.com/event/mtg-commander-247/
LOCATION:Modern Table Top gaming\, 15901 US Hwy 1\, Colonial Heights\, VA\, United States
GEO:37.305458;-77.40894
X-APPLE-STRUCTURED-LOCATION;VALUE=URI;X-ADDRESS=Modern Table Top gaming 15901 US Hwy 1 Colonial Heights VA United States;X-APPLE-RADIUS=500;X-TITLE=15901 US Hwy 1:geo:-77.40894,37.305458
END:VEVENT
BEGIN:VEVENT
DTSTART;TZID=America/New_York:20260429T183000
DTEND;TZID=America/New_York:20260429T213000
DTSTAMP:20260424T101913
CREATED:20260301T000125Z
LAST-MODIFIED:20260423T235950Z
UID:10005636-1777487400-1777498200@moderntabletoprva.com
SUMMARY:D&D
DESCRIPTION:Entry Fee: $5Parties are usually already established. Contact Party and Dungeon Master via our Discord to determine availability  
URL:https://moderntabletoprva.com/event/dd-426/
LOCATION:Modern Table Top gaming\, 15901 US Hwy 1\, Colonial Heights\, VA\, United States
GEO:37.305458;-77.40894
X-APPLE-STRUCTURED-LOCATION;VALUE=URI;X-ADDRESS=Modern Table Top gaming 15901 US Hwy 1 Colonial Heights VA United States;X-APPLE-RADIUS=500;X-TITLE=15901 US Hwy 1:geo:-77.40894,37.305458
END:VEVENT
BEGIN:VEVENT
DTSTART;TZID=America/New_York:20260429T183000
DTEND;TZID=America/New_York:20260429T220000
DTSTAMP:20260424T101913
CREATED:20260301T000123Z
LAST-MODIFIED:20260423T235950Z
UID:10005634-1777487400-1777500000@moderntabletoprva.com
SUMMARY:MTG Canadian Highlander
DESCRIPTION:$5 Entry. Proxy friendly.
URL:https://moderntabletoprva.com/event/mtg-canadian-highlander-85/
LOCATION:Modern Table Top gaming\, 15901 US Hwy 1\, Colonial Heights\, VA\, United States
GEO:37.305458;-77.40894
X-APPLE-STRUCTURED-LOCATION;VALUE=URI;X-ADDRESS=Modern Table Top gaming 15901 US Hwy 1 Colonial Heights VA United States;X-APPLE-RADIUS=500;X-TITLE=15901 US Hwy 1:geo:-77.40894,37.305458
END:VEVENT
BEGIN:VEVENT
DTSTART;TZID=America/New_York:20260429T190000
DTEND;TZID=America/New_York:20260429T220000
DTSTAMP:20260424T101913
CREATED:20260301T000125Z
LAST-MODIFIED:20260423T235950Z
UID:10005637-1777489200-1777500000@moderntabletoprva.com
SUMMARY:One Piece
DESCRIPTION:Entry – $6Store Credit to Top Performers
URL:https://moderntabletoprva.com/event/one-piece-84/
LOCATION:Modern Table Top gaming\, 15901 US Hwy 1\, Colonial Heights\, VA\, United States
GEO:37.305458;-77.40894
X-APPLE-STRUCTURED-LOCATION;VALUE=URI;X-ADDRESS=Modern Table Top gaming 15901 US Hwy 1 Colonial Heights VA United States;X-APPLE-RADIUS=500;X-TITLE=15901 US Hwy 1:geo:-77.40894,37.305458
END:VEVENT
BEGIN:VEVENT
DTSTART;TZID=America/New_York:20260430T120000
DTEND;TZID=America/New_York:20260430T220000
DTSTAMP:20260424T101913
CREATED:20260302T000104Z
LAST-MODIFIED:20260423T235952Z
UID:10005641-1777550400-1777586400@moderntabletoprva.com
SUMMARY:MTG Commander
DESCRIPTION:Entry Fee: FreeOpen Play Prize Support: \nJoin our Event via the companion app to be eligible for a Promo Pack *Promos are available while supplies last
URL:https://moderntabletoprva.com/event/mtg-commander-248/
LOCATION:Modern Table Top gaming\, 15901 US Hwy 1\, Colonial Heights\, VA\, United States
GEO:37.305458;-77.40894
X-APPLE-STRUCTURED-LOCATION;VALUE=URI;X-ADDRESS=Modern Table Top gaming 15901 US Hwy 1 Colonial Heights VA United States;X-APPLE-RADIUS=500;X-TITLE=15901 US Hwy 1:geo:-77.40894,37.305458
END:VEVENT
BEGIN:VEVENT
DTSTART;TZID=America/New_York:20260430T183000
DTEND;TZID=America/New_York:20260430T213000
DTSTAMP:20260424T101913
CREATED:20260302T000103Z
LAST-MODIFIED:20260423T235951Z
UID:10005640-1777573800-1777584600@moderntabletoprva.com
SUMMARY:D&D
DESCRIPTION:Entry Fee: $5Parties are usually already establishedContact Party and Dungeon Master via our Discord to determine availability
URL:https://moderntabletoprva.com/event/dd-427/
LOCATION:Modern Table Top gaming\, 15901 US Hwy 1\, Colonial Heights\, VA\, United States
GEO:37.305458;-77.40894
X-APPLE-STRUCTURED-LOCATION;VALUE=URI;X-ADDRESS=Modern Table Top gaming 15901 US Hwy 1 Colonial Heights VA United States;X-APPLE-RADIUS=500;X-TITLE=15901 US Hwy 1:geo:-77.40894,37.305458
END:VEVENT
BEGIN:VEVENT
DTSTART;TZID=America/New_York:20260430T183000
DTEND;TZID=America/New_York:20260430T213000
DTSTAMP:20260424T101913
CREATED:20260302T000105Z
LAST-MODIFIED:20260423T235951Z
UID:10005642-1777573800-1777584600@moderntabletoprva.com
SUMMARY:Union Arena
DESCRIPTION:Entry – $6 Format – Constructed 2 Booster Packs on EntryUndefeated gets an extra Booster Pack
URL:https://moderntabletoprva.com/event/union-arena-72/
LOCATION:Modern Table Top gaming\, 15901 US Hwy 1\, Colonial Heights\, VA\, United States
GEO:37.305458;-77.40894
X-APPLE-STRUCTURED-LOCATION;VALUE=URI;X-ADDRESS=Modern Table Top gaming 15901 US Hwy 1 Colonial Heights VA United States;X-APPLE-RADIUS=500;X-TITLE=15901 US Hwy 1:geo:-77.40894,37.305458
END:VEVENT
BEGIN:VEVENT
DTSTART;TZID=America/New_York:20260501T120000
DTEND;TZID=America/New_York:20260501T213000
DTSTAMP:20260424T101913
CREATED:20260303T000203Z
LAST-MODIFIED:20260423T235952Z
UID:10005643-1777636800-1777671000@moderntabletoprva.com
SUMMARY:FNM Commander
DESCRIPTION:Entry Fee: FreeOpen Play Prize Support: \nJoin our Event via the companion app to be eligible for a Promo Pack *Promos are available while supplies last
URL:https://moderntabletoprva.com/event/fnm-commander-75/
LOCATION:Modern Table Top gaming\, 15901 US Hwy 1\, Colonial Heights\, VA\, United States
GEO:37.305458;-77.40894
X-APPLE-STRUCTURED-LOCATION;VALUE=URI;X-ADDRESS=Modern Table Top gaming 15901 US Hwy 1 Colonial Heights VA United States;X-APPLE-RADIUS=500;X-TITLE=15901 US Hwy 1:geo:-77.40894,37.305458
END:VEVENT
BEGIN:VEVENT
DTSTART;TZID=America/New_York:20260501T183000
DTEND;TZID=America/New_York:20260501T213000
DTSTAMP:20260424T101913
CREATED:20260303T000204Z
LAST-MODIFIED:20260423T235952Z
UID:10005644-1777660200-1777671000@moderntabletoprva.com
SUMMARY:D&D
DESCRIPTION:Entry Fee: $5Parties are usually already establishedContact Party and Dungeon Master via our Discord to determine availability
URL:https://moderntabletoprva.com/event/dd-428/
LOCATION:Modern Table Top gaming\, 15901 US Hwy 1\, Colonial Heights\, VA\, United States
GEO:37.305458;-77.40894
X-APPLE-STRUCTURED-LOCATION;VALUE=URI;X-ADDRESS=Modern Table Top gaming 15901 US Hwy 1 Colonial Heights VA United States;X-APPLE-RADIUS=500;X-TITLE=15901 US Hwy 1:geo:-77.40894,37.305458
END:VEVENT
BEGIN:VEVENT
DTSTART;TZID=America/New_York:20260501T183000
DTEND;TZID=America/New_York:20260501T223000
DTSTAMP:20260424T101913
CREATED:20260303T000207Z
LAST-MODIFIED:20260423T235953Z
UID:10005645-1777660200-1777674600@moderntabletoprva.com
SUMMARY:Grand Archive
DESCRIPTION:Constructed Event (3 Rounds)Entry: $5*Booster Pack on Entry \nEvent Pack Payout \n3-0 = 3g / 2s \n2-0-1 = 2g / 2s \n2-1 = 1g / 2s \n1-2 = 2s \n0-3 = 1s
URL:https://moderntabletoprva.com/event/grand-archive-87/
LOCATION:Modern Table Top gaming\, 15901 US Hwy 1\, Colonial Heights\, VA\, United States
GEO:37.305458;-77.40894
X-APPLE-STRUCTURED-LOCATION;VALUE=URI;X-ADDRESS=Modern Table Top gaming 15901 US Hwy 1 Colonial Heights VA United States;X-APPLE-RADIUS=500;X-TITLE=15901 US Hwy 1:geo:-77.40894,37.305458
END:VEVENT
END:VCALENDAR